Workbook

Sheet 00_Übersicht
B2: Wasserschlosspark Untersiggenthal — DCF und Finanzierungsbedarf
B3: Urbanstreet Development AG · Patrick Hüppi, Timothy Traub, Marlon Lehner · Stand 28.09.2026 · Beträge in CHF
B5: Kennzahl | C5: Bestand | D5: Mix (Verkauf Villette I + II) | E5: Einheit
B6: Anlagekosten total (inkl. Land) | C6: ='03_DCF Bestand'!$C$52 -> 163772318 | D6: ='04_DCF Mix'!$C$52 -> 163772318 | E6: CHF
B7: davon Land (Sacheinlage) | C7: ='03_DCF Bestand'!$C$53 -> 46101459 | D7: ='04_DCF Mix'!$C$53 -> 46101459 | E7: CHF
B8: Bar-Eigenkapital | C8: ='03_DCF Bestand'!$C$54 -> 11218852 | D8: ='04_DCF Mix'!$C$54 -> 11218852 | E8: CHF
B9: Eigenkapital total in % Anlagekosten | C9: ='03_DCF Bestand'!$C$55 -> 0.35 | D9: ='04_DCF Mix'!$C$55 -> 0.35 | E9: %
B10: Kreditlimit (LTC) | C10: ='03_DCF Bestand'!$C$56 -> 1.0645201e+08 | D10: ='04_DCF Mix'!$C$56 -> 1.0645201e+08 | E10: CHF
B11: Peak-Kredit | C11: ='03_DCF Bestand'!$C$57 -> 1.0727662e+08 | D11: ='04_DCF Mix'!$C$57 -> 58912962 | E11: CHF
B12: Peak-Kredit in % Anlagekosten | C12: ='03_DCF Bestand'!$C$58 -> 0.65503512 | D12: ='04_DCF Mix'!$C$58 -> 0.35972478 | E12: %
B13: Kreditsaldo Ende 2032 (Konsolidierung) | C13: ='03_DCF Bestand'!$C$59 -> 1.0727662e+08 | D13: ='04_DCF Mix'!$C$59 -> 1654378.2 | E13: CHF
B14: Ertragswert gehaltener Phasen 2033 | C14: ='03_DCF Bestand'!$C$60 -> 1.6227071e+08 | D14: ='04_DCF Mix'!$C$60 -> 72891500 | E14: CHF
B15: Hypothek max. (LTV-Vorgabe) | C15: ='03_DCF Bestand'!$C$61 -> 97362425 | D15: ='04_DCF Mix'!$C$61 -> 43734900 | E15: CHF
B16: Refinanzierungslücke 2032 (+ = zusätzliches EK/Mezzanine) | C16: ='03_DCF Bestand'!$C$62 -> 9914195.9 | D16: ='04_DCF Mix'!$C$62 -> 0 | E16: CHF
B17: LTV 2033 | C17: ='03_DCF Bestand'!$C$63 -> 0.65448568 | D17: ='04_DCF Mix'!$C$63 -> 0.022469485 | E17: %
B18: DSCR min. 2033–2040 | C18: ='03_DCF Bestand'!$C$64 -> 1.8281436 | D18: ='04_DCF Mix'!$C$64 -> 67.450753 | E18: x
B19: ICR 2033 | C19: ='03_DCF Bestand'!$C$65 -> 2.6406519 | D19: ='04_DCF Mix'!$C$65 -> 97.428866 | E19: x
B20: Nettoertrag stabil 2033 | C20: ='03_DCF Bestand'!$C$66 -> 6373804.7 | D20: ='04_DCF Mix'!$C$66 -> 3626644.4 | E20: CHF
B21: Verkaufserlöse netto | C21: ='03_DCF Bestand'!$C$67 -> 0 | D21: ='04_DCF Mix'!$C$67 -> 106250000 | E21: CHF
B22: Projekt-NPV @ Diskontsatz | C22: ='03_DCF Bestand'!$C$68 -> -28475604 | D22: ='04_DCF Mix'!$C$68 -> -5936249.3 | E22: CHF
B23: Projekt-IRR (unlevered) | C23: ='03_DCF Bestand'!$C$69 -> 0.037386594 | D23: ='04_DCF Mix'!$C$69 -> 0.051652124 | E23: %
B24: Eigenkapital-IRR (levered) | C24: ='03_DCF Bestand'!$C$70 -> 0.05267928 | D24: ='04_DCF Mix'!$C$70 -> 0.055042813 | E24: %
B25: Eigenkapital-Multiple | C25: ='03_DCF Bestand'!$C$71 -> 1.8731266 | D25: ='04_DCF Mix'!$C$71 -> 1.927145 | E25: x
B26: Terminal Value 2040 | C26: ='03_DCF Bestand'!$C$72 -> 1.7172052e+08 | D26: ='04_DCF Mix'!$C$72 -> 77088587 | E26: CHF
B27: Barwert Terminal Value | C27: ='03_DCF Bestand'!$C$73 -> 76267820 | D27: ='04_DCF Mix'!$C$73 -> 34238066 | E27: CHF
B28: Landwert bei Diskontsatz (Land + NPV) | C28: ='03_DCF Bestand'!$C$77 -> 17625855 | D28: ='04_DCF Mix'!$C$77 -> 40165210 | E28: CHF
B29: Kovenant DSCR eingehalten? | C29: ='03_DCF Bestand'!$C$74 -> ja | D29: ='04_DCF Mix'!$C$74 -> ja
B30: Kreditlimit eingehalten? | C30: ='03_DCF Bestand'!$C$75 -> nein | D30: ='04_DCF Mix'!$C$75 -> ja
B31: Überschreitung Kreditlimit | C31: ='03_DCF Bestand'!$C$76 -> 824614.02 | D31: ='04_DCF Mix'!$C$76 -> 0 | E31: CHF
B33: Diskontierungssatz Projekt | C33: =01_Annahmen!$C$12 -> 0.05968602
B34: Zinssatz all-in | C34: =01_Annahmen!$C$20 -> 0.0225
B35: Belehnung Baukredit (LTC) / Hypothek (LTV) | C35: =01_Annahmen!$C$18 -> 0.65 | D35: =01_Annahmen!$C$21 -> 0.6
B37: Indikative Berechnung ohne Steuern (Grundstückgewinn-, Ertrags- und Handänderungssteuern) und ohne heutige Bestandeserträge und -belastungen des Areals.
B38: Die Berechnung dient als Grundlage für Finanzierungsgespräche; sie ersetzt kein Schätzungsgutachten nach SVS/RICS und keine Kreditprüfung der Bank.

Sheet 01_Annahmen
B2: Annahmen DCF und Finanzierung
B3: Blau = Eingabe · gelb = Schlüsselannahme · Schwarz = Formel · Beträge in CHF, sofern nicht anders angegeben
B5: ALLGEMEIN UND BEWERTUNG
B6: Parameter | C6: Wert | D6: Einheit | E6: Herleitung / Quelle
B7: Bewertungsstichtag | C7: 30.09.2026 | E7: Stand Renditebewertung Wasserschlosspark
B8: Erstes Modelljahr (t0) | C8: 2026 | D8: Jahr | E8: Cashflows jährlich, Jahresende
B9: Nettokapitalisierungssatz Portfolio (NOI-gewichtet) | C9: =SUMPRODUCT(T30:T33)/SUMPRODUCT(N30:N33) -> 0.040872589 | D9: % | E9: Nettoertrag stabil ÷ Ertragswert, Phasentabelle
B10: Mietwachstum p.a. (gewichtet) | C10: =SUMPRODUCT(H30:H33,L30:L33)/SUM(H30:H33) -> 0.0088134304 | D10: % | E10: aus Renditebewertung je Nutzung
B11: Zuschlag Entwicklungs- und Projektrisiko | C11: 0.01 | D11: % | E11: Bau-, Bewilligungs- und Absorptionsrisiko
B12: Diskontierungssatz Projekt (nominal) | C12: =C9+C10+C11 -> 0.05968602 | D12: % | E12: Kap.satz + Wachstum + Projektzuschlag
B13: Zuschlag Exit-Kapitalisierungssatz | C13: 0.0015 | D13: % | E13: Alterung bis Exit 2040
B14: Exit-Jahr (Terminal Value) | C14: 2040 | D14: Jahr | E14: Ende Betrachtungsperiode
B16: FINANZIERUNG
B17: Parameter | C17: Wert | D17: Einheit | E17: Herleitung / Quelle
B18: Kreditlimit Baukredit in % der Anlagekosten (LTC) | C18: 0.65 | D18: % | E18: marktüblich
B19: Mindest-Eigenkapital in % der Anlagekosten | C19: 0.35 | D19: % | E19: Gegenstück zur LTC
B20: Zinssatz Baukredit / Hypothek all-in | C20: 0.0225 | D20: % | E20: SARON + Marge, marktüblich
B21: Belehnung Hypothek in % Ertragswert (LTV) | C21: 0.6 | D21: % | E21: Konsolidierung nach Bezug
B22: Amortisation p.a. in % der Schuld | C22: 0.01 | D22: % | E22: ab Beginn Amortisation
B23: Beginn Amortisation | C23: 2033 | D23: Jahr | E23: erstes volles Jahr nach Bezug Phase C
B24: Mindest-DSCR (Covenant) | C24: 1.25 | D24: x | E24: Schuldendienstdeckung
B25: Landwert Einbringung als Eigenkapital (Sacheinlage) | C25: 46101459 | D25: CHF | E25: Residualwert Ertragswert-Basis, Gesamtmodell 28.09.2026
B26: Nebenkosten Planung arealweit | C26: 1500000 | D26: CHF | E26: Planungsbudget 10 Mio, davon NK
B28: PHASEN — KOSTEN, ERTRÄGE, VERKAUF (Quelle: Gesamtmodell Wasserschlosspark, 28.09.2026)
B29: Phase | C29: Projektteile | D29: HNF m² | E29: EK notwendig CHF | F29: davon Planungs- budget CHF | G29: MP + NK + VK + Zins CHF | H29: Sollertrag stabil CHF | I29: Ausfall stabil | J29: Bewirt- schaftung | K29: Ausfall Erst- vermietung J1 | L29: Miet- wachstum | M29: Netto-Kap.- satz | N29: Ertragswert stabil CHF | O29: Erstes Ertragsjahr | P29: Verkauf im Mix (1/0) | Q29: Verkaufs- erlös CHF | R29: Vertriebs- kosten | S29: Verkaufs- jahr | T29: NOI stabil CHF
B30: Phase A | C30: Villette I inkl. TG Villette | D30: 3614 | E30: 19515675 | F30: 3500000 | G30: 0 | H30: 1207226 | I30: 0.022 | J30: 0.1267 | K30: 0.3533 | L30: 0.01 | M30: 0.03458 | N30: =T30/M30 -> 29719823 | O30: 2029 | P30: 1 | Q30: 30000000 | R30: 0.025 | S30: 2029 | T30: =H30*(1-I30-J30) -> 1027711.5
B31: Phase B | C31: Concierge ACE + Spitex Umbau inkl. öffentliche TG | D31: 4922.35 | E31: 23808623 | F31: 2500000 | G31: 0 | H31: 2174758 | I31: 0.0543 | J31: 0.197 | K31: 0.4267 | L31: 0.0082 | M31: 0.04543 | N31: =T31/M31 -> 35840663 | O31: 2030 | P31: 0 | Q31: 0 | R31: 0 | S31: 2030 | T31: =H31*(1-I31-J31) -> 1628241.3
B32: Phase D | C32: Campus Small + Campus Medium | D32: 6443 | E32: 27263728 | F32: 2000000 | G32: 0 | H32: 2450136 | I32: 0.067 | J32: 0.1518 | K32: 0.4351 | L32: 0.0076 | M32: 0.05166 | N32: =T32/M32 -> 37050837 | O32: 2030 | P32: 0 | Q32: 0 | R32: 0 | S32: 2030 | T32: =H32*(1-I32-J32) -> 1914046.2
B33: Phase C | C33: Villette II | D33: 7249 | E33: 38582833 | F33: 500000 | G33: 7000000 | H33: 2422677 | I33: 0.022 | J33: 0.1267 | K33: 0.3533 | L33: 0.01 | M33: 0.03457 | N33: =T33/M33 -> 59659385 | O33: 2032 | P33: 1 | Q33: 77000000 | R33: 0 | S33: 2031 | T33: =H33*(1-I33-J33) -> 2062424.9
C34: Total | D34: =SUM(D30:D33) -> 22228.35 | E34: =SUM(E30:E33) -> 109170859 | F34: =SUM(F30:F33) -> 8500000 | G34: =SUM(G30:G33) -> 7000000 | H34: =SUM(H30:H33) -> 8254797 | N34: =SUM(N30:N33) -> 1.6227071e+08 | Q34: =SUM(Q30:Q33) -> 107000000 | T34: =SUM(T30:T33) -> 6632424
B35: EK inkl. Planungsbudget der Phase (Budgetplanung +24 Monate). MP+NK+VK+Zins Phase C: Masterplan/Gestaltungsplan, Nebenkosten, Vertrieb und Zins gemäss Budgetplanung.
B36: Verkaufserlöse Mix: AK möglich gemäss Budgetplanung (Villette I 30 Mio, Villette II 77 Mio). Villette II: Vertriebskosten bereits in MP+NK+VK+Zins enthalten.
B38: BAUPROFIL — Anteil Baukosten (EK ohne Planung) je Jahr, gemäss Bauablauf 17.09.2026
B39: Phase | C39: Baustart → Bezug | D39: 2026 | E39: 2027 | F39: 2028 | G39: 2029 | H39: 2030 | I39: 2031 | J39: 2032 | K39: Summe
B40: Phase A | C40: Q1 2028 → Q1 2029 | D40: 0 | E40: 0 | F40: 0.9 | G40: 0.1 | H40: 0 | I40: 0 | J40: 0 | K40: =SUM(D40:J40) -> 1
B41: Phase B | C41: Q2 2028 → Q4 2029 | D41: 0 | E41: 0 | F41: 0.4 | G41: 0.6 | H41: 0 | I41: 0 | J41: 0 | K41: =SUM(D41:J41) -> 1
B42: Phase D | C42: Q2 2028 → Q1 2030 | D42: 0 | E42: 0 | F42: 0.35 | G42: 0.55 | H42: 0.1 | I42: 0 | J42: 0 | K42: =SUM(D42:J42) -> 1
B43: Phase C | C43: Q1 2030 → Q4 2031 (Annahme) | D43: 0 | E43: 0 | F43: 0 | G43: 0 | H43: 0.5 | I43: 0.5 | J43: 0 | K43: =SUM(D43:J43) -> 1
B45: MITTELVERWENDUNG PLANUNG — Jahreswerte (aus Quartalsplan Q4 2026 – Q3 2028)
B46: Position | C46: Budget CHF | D46: 2026 | E46: 2027 | F46: 2028 | G46: Summe
...

Sheet 02_Investitionen
B2: Investitionen und Anlagekosten je Jahr
B3: Mittelabfluss je Phase: Planung gemäss Mittelverwendung, Baukosten gemäss Bauprofil, Land als Sacheinlage in t0
B5: Position | C5: Phase | D5: Total | E5: 2026 | F5: 2027 | G5: 2028 | H5: 2029 | I5: 2030 | J5: 2031 | K5: 2032 | L5: 2033 | M5: 2034 | N5: 2035 | O5: 2036 | P5: 2037 | Q5: 2038 | R5: 2039 | S5: 2040
B6: Planung | C6: Phase A | D6: =SUM(E6:S6) -> 3500000 | E6: =01_Annahmen!D47 -> 525000 | F6: =01_Annahmen!E47 -> 2100000 | G6: =01_Annahmen!F47 -> 875000 | H6: 0 | I6: 0 | J6: 0 | K6: 0 | L6: 0 | M6: 0 | N6: 0 | O6: 0 | P6: 0 | Q6: 0 | R6: 0 | S6: 0
B7: Baukosten (EK ohne Planung) | C7: Phase A | D7: =SUM(E7:S7) -> 16015675 | E7: =(01_Annahmen!$E$30-01_Annahmen!$F$30)*01_Annahmen!D40 -> 0 | F7: =(01_Annahmen!$E$30-01_Annahmen!$F$30)*01_Annahmen!E40 -> 0 | G7: =(01_Annahmen!$E$30-01_Annahmen!$F$30)*01_Annahmen!F40 -> 14414108 | H7: =(01_Annahmen!$E$30-01_Annahmen!$F$30)*01_Annahmen!G40 -> 1601567.5 | I7: =(01_Annahmen!$E$30-01_Annahmen!$F$30)*01_Annahmen!H40 -> 0 | J7: =(01_Annahmen!$E$30-01_Annahmen!$F$30)*01_Annahmen!I40 -> 0 | K7: =(01_Annahmen!$E$30-01_Annahmen!$F$30)*01_Annahmen!J40 -> 0 | L7: 0 | M7: 0 | N7: 0 | O7: 0 | P7: 0 | Q7: 0 | R7: 0 | S7: 0
B8: Planung | C8: Phase B | D8: =SUM(E8:S8) -> 2500000 | E8: =01_Annahmen!D48 -> 250000 | F8: =01_Annahmen!E48 -> 1375000 | G8: =01_Annahmen!F48 -> 875000 | H8: 0 | I8: 0 | J8: 0 | K8: 0 | L8: 0 | M8: 0 | N8: 0 | O8: 0 | P8: 0 | Q8: 0 | R8: 0 | S8: 0
B9: Baukosten (EK ohne Planung) | C9: Phase B | D9: =SUM(E9:S9) -> 21308623 | E9: =(01_Annahmen!$E$31-01_Annahmen!$F$31)*01_Annahmen!D41 -> 0 | F9: =(01_Annahmen!$E$31-01_Annahmen!$F$31)*01_Annahmen!E41 -> 0 | G9: =(01_Annahmen!$E$31-01_Annahmen!$F$31)*01_Annahmen!F41 -> 8523449.2 | H9: =(01_Annahmen!$E$31-01_Annahmen!$F$31)*01_Annahmen!G41 -> 12785174 | I9: =(01_Annahmen!$E$31-01_Annahmen!$F$31)*01_Annahmen!H41 -> 0 | J9: =(01_Annahmen!$E$31-01_Annahmen!$F$31)*01_Annahmen!I41 -> 0 | K9: =(01_Annahmen!$E$31-01_Annahmen!$F$31)*01_Annahmen!J41 -> 0 | L9: 0 | M9: 0 | N9: 0 | O9: 0 | P9: 0 | Q9: 0 | R9: 0 | S9: 0
B10: Planung | C10: Phase D | D10: =SUM(E10:S10) -> 2000000 | E10: =01_Annahmen!D49 -> 200000 | F10: =01_Annahmen!E49 -> 1100000 | G10: =01_Annahmen!F49 -> 700000 | H10: 0 | I10: 0 | J10: 0 | K10: 0 | L10: 0 | M10: 0 | N10: 0 | O10: 0 | P10: 0 | Q10: 0 | R10: 0 | S10: 0
B11: Baukosten (EK ohne Planung) | C11: Phase D | D11: =SUM(E11:S11) -> 25263728 | E11: =(01_Annahmen!$E$32-01_Annahmen!$F$32)*01_Annahmen!D42 -> 0 | F11: =(01_Annahmen!$E$32-01_Annahmen!$F$32)*01_Annahmen!E42 -> 0 | G11: =(01_Annahmen!$E$32-01_Annahmen!$F$32)*01_Annahmen!F42 -> 8842304.8 | H11: =(01_Annahmen!$E$32-01_Annahmen!$F$32)*01_Annahmen!G42 -> 13895050 | I11: =(01_Annahmen!$E$32-01_Annahmen!$F$32)*01_Annahmen!H42 -> 2526372.8 | J11: =(01_Annahmen!$E$32-01_Annahmen!$F$32)*01_Annahmen!I42 -> 0 | K11: =(01_Annahmen!$E$32-01_Annahmen!$F$32)*01_Annahmen!J42 -> 0 | L11: 0 | M11: 0 | N11: 0 | O11: 0 | P11: 0 | Q11: 0 | R11: 0 | S11: 0
B12: Planung | C12: Phase C | D12: =SUM(E12:S12) -> 500000 | E12: =01_Annahmen!D50 -> 100000 | F12: =01_Annahmen!E50 -> 350000 | G12: =01_Annahmen!F50 -> 50000 | H12: 0 | I12: 0 | J12: 0 | K12: 0 | L12: 0 | M12: 0 | N12: 0 | O12: 0 | P12: 0 | Q12: 0 | R12: 0 | S12: 0
B13: Baukosten (EK ohne Planung) | C13: Phase C | D13: =SUM(E13:S13) -> 38082833 | E13: =(01_Annahmen!$E$33-01_Annahmen!$F$33)*01_Annahmen!D43 -> 0 | F13: =(01_Annahmen!$E$33-01_Annahmen!$F$33)*01_Annahmen!E43 -> 0 | G13: =(01_Annahmen!$E$33-01_Annahmen!$F$33)*01_Annahmen!F43 -> 0 | H13: =(01_Annahmen!$E$33-01_Annahmen!$F$33)*01_Annahmen!G43 -> 0 | I13: =(01_Annahmen!$E$33-01_Annahmen!$F$33)*01_Annahmen!H43 -> 19041416 | J13: =(01_Annahmen!$E$33-01_Annahmen!$F$33)*01_Annahmen!I43 -> 19041416 | K13: =(01_Annahmen!$E$33-01_Annahmen!$F$33)*01_Annahmen!J43 -> 0 | L13: 0 | M13: 0 | N13: 0 | O13: 0 | P13: 0 | Q13: 0 | R13: 0 | S13: 0
B14: Masterplan + NK + VK + Zins | C14: Phase C | D14: =SUM(E14:S14) -> 7000000 | E14: 0 | F14: =01_Annahmen!$G$33*01_Annahmen!D55 -> 700000 | G14: =01_Annahmen!$G$33*01_Annahmen!E55 -> 1400000 | H14: =01_Annahmen!$G$33*01_Annahmen!F55 -> 2100000 | I14: =01_Annahmen!$G$33*01_Annahmen!G55 -> 2100000 | J14: =01_Annahmen!$G$33*01_Annahmen!H55 -> 700000 | K14: 0 | L14: 0 | M14: 0 | N14: 0 | O14: 0 | P14: 0 | Q14: 0 | R14: 0 | S14: 0
B15: Nebenkosten Planung arealweit | C15: Areal | D15: =SUM(E15:S15) -> 1500000 | E15: =01_Annahmen!D51 -> 187500 | F15: =01_Annahmen!E51 -> 750000 | G15: =01_Annahmen!F51 -> 562500 | H15: 0 | I15: 0 | J15: 0 | K15: 0 | L15: 0 | M15: 0 | N15: 0 | O15: 0 | P15: 0 | Q15: 0 | R15: 0 | S15: 0
B16: Cash-Investitionen total | D16: =SUM(D6:D15) -> 117670859 | E16: =SUM(E6:E15) -> 1262500 | F16: =SUM(F6:F15) -> 6375000 | G16: =SUM(G6:G15) -> 36242362 | H16: =SUM(H6:H15) -> 30381792 | I16: =SUM(I6:I15) -> 23667789 | J16: =SUM(J6:J15) -> 19741416 | K16: =SUM(K6:K15) -> 0 | ... S16: =SUM(S6:S15) -> 0
B17: Land (Sacheinlage Eigenkapital) | C17: Areal | D17: =SUM(E17:S17) -> 46101459 | E17: =01_Annahmen!$C$25 -> 46101459 | F17: 0 | G17: 0 | H17: 0 | I17: 0 | J17: 0 | K17: 0 | L17: 0 | M17: 0 | N17: 0 | O17: 0 | P17: 0 | Q17: 0 | R17: 0 | S17: 0
B18: Anlagekosten total | D18: =D16+D17 -> 163772318 | E18: =E16+E17 -> 47363959 | F18: =F16+F17 -> 6375000 | G18: =G16+G17 -> 36242362 | H18: =H16+H17 -> 30381792 | I18: =I16+I17 -> 23667789 | J18: =J16+J17 -> 19741416 | K18: =K16+K17 -> 0 | ... S18: =S16+S17 -> 0
B20: ANLAGEKOSTEN JE PHASE (ohne Land)
B21: Phase | D21: Total CHF | E21: Anteil
B22: Phase A | D22: =D6+D7 -> 19515675 | E22: =D22/D16 -> 0.16584969
B23: Phase B | D23: =D8+D9 -> 23808623 | E23: =D23/D16 -> 0.20233236
B24: Phase D | D24: =D10+D11 -> 27263728 | E24: =D24/D16 -> 0.23169482
B25: Phase C | D25: =D12+D13+D14 -> 45582833 | E25: =D25/D16 -> 0.38737571
B26: Nebenkosten arealweit | D26: =D15 -> 1500000 | E26: =D26/D16 -> 0.012747421
B27: Total | D27: =SUM(D22:D26) -> 117670859 | E27: =SUM(E22:E26) -> 1

Sheet 03_DCF Bestand
B2: DCF und Finanzierung — Szenario Bestand
B3: Alle Phasen im Bestand
B4: Szenario-Schalter Verkauf (0 = Bestand, 1 = Mix) | C4: 0
B5: Position | C5: Phase | D5: Total / Wert | E5: 2026 | F5: 2027 | G5: 2028 | H5: 2029 | I5: 2030 | J5: 2031 | K5: 2032 | L5: 2033 | M5: 2034 | N5: 2035 | O5: 2036 | P5: 2037 | Q5: 2038 | R5: 2039 | S5: 2040
E6: 2026 | F6: 2027 | G6: 2028 | H6: 2029 | I6: 2030 | J6: 2031 | K6: 2032 | L6: 2033 | M6: 2034 | N6: 2035 | O6: 2036 | P6: 2037 | Q6: 2038 | R6: 2039 | S6: 2040
B7: A PROJEKT-CASHFLOW (unlevered)
B8: Nettoertrag (NOI) | C8: Phase A | D8: =SUM(E8:S8) -> 12432023 | E8: =IF(E$6<01_Annahmen!$O$30,0,(1-$C$4*01_Annahmen!$P$30)*01_Annahmen!$H$30*(1+01_Annahmen!$L$30)^(E$6-01_Annahmen!$O$30)*(1-IF(E$6=01_Annahmen!$O$30,01_Annahmen!$K$30,IF(E$6=01_Annahmen!$O$30+1,(01_Annahmen!$K$30+01_Annahmen!$I$30)/2,01_Annahmen!$I$30))-01_Annahmen!$J$30)) -> 0 | F8: =IF(F$6<01_Annahmen!$O$30,0,(1-$C$4*01_Annahmen!$P$30)*01_Annahmen!$H$30*(1+01_Annahmen!$L$30)^(F$6-01_Annahmen!$O$30)*(1-IF(F$6=01_Annahmen!$O$30,01_Annahmen!$K$30,IF(F$6=01_Annahmen!$O$30+1,(01_Annahmen!$K$30+01_Annahmen!$I$30)/2,01_Annahmen!$I$30))-01_Annahmen!$J$30)) -> 0 | G8: =IF(G$6<01_Annahmen!$O$30,0,(1-$C$4*01_Annahmen!$P$30)*01_Annahmen!$H$30*(1+01_Annahmen!$L$30)^(G$6-01_Annahmen!$O$30)*(1-IF(G$6=01_Annahmen!$O$30,01_Annahmen!$K$30,IF(G$6=01_Annahmen!$O$30+1,(01_Annahmen!$K$30+01_Annahmen!$I$30)/2,01_Annahmen!$I$30))-01_Annahmen!$J$30)) -> 0 | H8: =IF(H$6<01_Annahmen!$O$30,0,(1-$C$4*01_Annahmen!$P$30)*01_Annahmen!$H$30*(1+01_Annahmen!$L$30)^(H$6-01_Annahmen!$O$30)*(1-IF(H$6=01_Annahmen!$O$30,01_Annahmen!$K$30,IF(H$6=01_Annahmen!$O$30+1,(01_Annahmen!$K$30+01_Annahmen!$I$30)/2,01_Annahmen!$I$30))-01_Annahmen!$J$30)) -> 627757.52 | I8: =IF(I$6<01_Annahmen!$O$30,0,(1-$C$4*01_Annahmen!$P$30)*01_Annahmen!$H$30*(1+01_Annahmen!$L$30)^(I$6-01_Annahmen!$O$30)*(1-IF(I$6=01_Annahmen!$O$30,01_Annahmen!$K$30,IF(I$6=01_Annahmen!$O$30+1,(01_Annahmen!$K$30+01_Annahmen!$I$30)/2,01_Annahmen!$I$30))-01_Annahmen!$J$30)) -> 836011.85 | J8: =IF(J$6<01_Annahmen!$O$30,0,(1-$C$4*01_Annahmen!$P$30)*01_Annahmen!$H$30*(1+01_Annahmen!$L$30)^(J$6-01_Annahmen!$O$30)*(1-IF(J$6=01_Annahmen!$O$30,01_Annahmen!$K$30,IF(J$6=01_Annahmen!$O$30+1,(01_Annahmen!$K$30+01_Annahmen!$I$30)/2,01_Annahmen!$I$30))-01_Annahmen!$J$30)) -> 1048368.5 | K8: =IF(K$6<01_Annahmen!$O$30,0,(1-$C$4*01_Annahmen!$P$30)*01_Annahmen!$H$30*(1+01_Annahmen!$L$30)^(K$6-01_Annahmen!$O$30)*(1-IF(K$6=01_Annahmen!$O$30,01_Annahmen!$K$30,IF(K$6=01_Annahmen!$O$30+1,(01_Annahmen!$K$30+01_Annahmen!$I$30)/2,01_Annahmen!$I$30))-01_Annahmen!$J$30)) -> 1058852.2 | L8: =IF(L$6<01_Annahmen!$O$30,0,(1-$C$4*01_Annahmen!$P$30)*01_Annahmen!$H$30*(1+01_Annahmen!$L$30)^(L$6-01_Annahmen!$O$30)*(1-IF(L$6=01_Annahmen!$O$30,01_Annahmen!$K$30,IF(L$6=01_Annahmen!$O$30+1,(01_Annahmen!$K$30+01_Annahmen!$I$30)/2,01_Annahmen!$I$30))-01_Annahmen!$J$30)) -> 1069440.7 | ... S8: =IF(S$6<01_Annahmen!$O$30,0,(1-$C$4*01_Annahmen!$P$30)*01_Annahmen!$H$30*(1+01_Annahmen!$L$30)^(S$6-01_Annahmen!$O$30)*(1-IF(S$6=01_Annahmen!$O$30,01_Annahmen!$K$30,IF(S$6=01_Annahmen!$O$30+1,(01_Annahmen!$K$30+01_Annahmen!$I$30)/2,01_Annahmen!$I$30))-01_Annahmen!$J$30)) -> 1146585.2
B9: Nettoertrag (NOI) | C9: Phase B | D9: =SUM(E9:S9) -> 17445215 | E9: =IF(E$6<01_Annahmen!$O$31,0,(1-$C$4*01_Annahmen!$P$31)*01_Annahmen!$H$31*(1+01_Annahmen!$L$31)^(E$6-01_Annahmen!$O$31)*(1-IF(E$6=01_Annahmen!$O$31,01_Annahmen!$K$31,IF(E$6=01_Annahmen!$O$31+1,(01_Annahmen!$K$31+01_Annahmen!$I$31)/2,01_Annahmen!$I$31))-01_Annahmen!$J$31)) -> 0 | F9: =IF(F$6<01_Annahmen!$O$31,0,(1-$C$4*01_Annahmen!$P$31)*01_Annahmen!$H$31*(1+01_Annahmen!$L$31)^(F$6-01_Annahmen!$O$31)*(1-IF(F$6=01_Annahmen!$O$31,01_Annahmen!$K$31,IF(F$6=01_Annahmen!$O$31+1,(01_Annahmen!$K$31+01_Annahmen!$I$31)/2,01_Annahmen!$I$31))-01_Annahmen!$J$31)) -> 0 | G9: =IF(G$6<01_Annahmen!$O$31,0,(1-$C$4*01_Annahmen!$P$31)*01_Annahmen!$H$31*(1+01_Annahmen!$L$31)^(G$6-01_Annahmen!$O$31)*(1-IF(G$6=01_Annahmen!$O$31,01_Annahmen!$K$31,IF(G$6=01_Annahmen!$O$31+1,(01_Annahmen!$K$31+01_Annahmen!$I$31)/2,01_Annahmen!$I$31))-01_Annahmen!$J$31)) -> 0 | H9: =IF(H$6<01_Annahmen!$O$31,0,(1-$C$4*01_Annahmen!$P$31)*01_Annahmen!$H$31*(1+01_Annahmen!$L$31)^(H$6-01_Annahmen!$O$31)*(1-IF(H$6=01_Annahmen!$O$31,01_Annahmen!$K$31,IF(H$6=01_Annahmen!$O$31+1,(01_Annahmen!$K$31+01_Annahmen!$I$31)/2,01_Annahmen!$I$31))-01_Annahmen!$J$31)) -> 0 | I9: =IF(I$6<01_Annahmen!$O$31,0,(1-$C$4*01_Annahmen!$P$31)*01_Annahmen!$H$31*(1+01_Annahmen!$L$31)^(I$6-01_Annahmen!$O$31)*(1-IF(I$6=01_Annahmen!$O$31,01_Annahmen!$K$31,IF(I$6=01_Annahmen!$O$31+1,(01_Annahmen!$K$31+01_Annahmen!$I$31)/2,01_Annahmen!$I$31))-01_Annahmen!$J$31)) -> 818361.44 | J9: =IF(J$6<01_Annahmen!$O$31,0,(1-$C$4*01_Annahmen!$P$31)*01_Annahmen!$H$31*(1+01_Annahmen!$L$31)^(J$6-01_Annahmen!$O$31)*(1-IF(J$6=01_Annahmen!$O$31,01_Annahmen!$K$31,IF(J$6=01_Annahmen!$O$31+1,(01_Annahmen!$K$31+01_Annahmen!$I$31)/2,01_Annahmen!$I$31))-01_Annahmen!$J$31)) -> 1233332.4 | K9: =IF(K$6<01_Annahmen!$O$31,0,(1-$C$4*01_Annahmen!$P$31)*01_Annahmen!$H$31*(1+01_Annahmen!$L$31)^(K$6-01_Annahmen!$O$31)*(1-IF(K$6=01_Annahmen!$O$31,01_Annahmen!$K$31,IF(K$6=01_Annahmen!$O$31+1,(01_Annahmen!$K$31+01_Annahmen!$I$31)/2,01_Annahmen!$I$31))-01_Annahmen!$J$31)) -> 1655054 | L9: =IF(L$6<01_Annahmen!$O$31,0,(1-$C$4*01_Annahmen!$P$31)*01_Annahmen!$H$31*(1+01_Annahmen!$L$31)^(L$6-01_Annahmen!$O$31)*(1-IF(L$6=01_Annahmen!$O$31,01_Annahmen!$K$31,IF(L$6=01_Annahmen!$O$31+1,(01_Annahmen!$K$31+01_Annahmen!$I$31)/2,01_Annahmen!$I$31))-01_Annahmen!$J$31)) -> 1668625.4 | ... S9: =IF(S$6<01_Annahmen!$O$31,0,(1-$C$4*01_Annahmen!$P$31)*01_Annahmen!$H$31*(1+01_Annahmen!$L$31)^(S$6-01_Annahmen!$O$31)*(1-IF(S$6=01_Annahmen!$O$31,01_Annahmen!$K$31,IF(S$6=01_Annahmen!$O$31+1,(01_Annahmen!$K$31+01_Annahmen!$I$31)/2,01_Annahmen!$I$31))-01_Annahmen!$J$31)) -> 1766793.1
B10: Nettoertrag (NOI) | C10: Phase D | D10: =SUM(E10:S10) -> 20516832 | E10: =IF(E$6<01_Annahmen!$O$32,0,(1-$C$4*01_Annahmen!$P$32)*01_Annahmen!$H$32*(1+01_Annahmen!$L$32)^(E$6-01_Annahmen!$O$32)*(1-IF(E$6=01_Annahmen!$O$32,01_Annahmen!$K$32,IF(E$6=01_Annahmen!$O$32+1,(01_Annahmen!$K$32+01_Annahmen!$I$32)/2,01_Annahmen!$I$32))-01_Annahmen!$J$32)) -> 0 | F10: =IF(F$6<01_Annahmen!$O$32,0,(1-$C$4*01_Annahmen!$P$32)*01_Annahmen!$H$32*(1+01_Annahmen!$L$32)^(F$6-01_Annahmen!$O$32)*(1-IF(F$6=01_Annahmen!$O$32,01_Annahmen!$K$32,IF(F$6=01_Annahmen!$O$32+1,(01_Annahmen!$K$32+01_Annahmen!$I$32)/2,01_Annahmen!$I$32))-01_Annahmen!$J$32)) -> 0 | G10: =IF(G$6<01_Annahmen!$O$32,0,(1-$C$4*01_Annahmen!$P$32)*01_Annahmen!$H$32*(1+01_Annahmen!$L$32)^(G$6-01_Annahmen!$O$32)*(1-IF(G$6=01_Annahmen!$O$32,01_Annahmen!$K$32,IF(G$6=01_Annahmen!$O$32+1,(01_Annahmen!$K$32+01_Annahmen!$I$32)/2,01_Annahmen!$I$32))-01_Annahmen!$J$32)) -> 0 | H10: =IF(H$6<01_Annahmen!$O$32,0,(1-$C$4*01_Annahmen!$P$32)*01_Annahmen!$H$32*(1+01_Annahmen!$L$32)^(H$6-01_Annahmen!$O$32)*(1-IF(H$6=01_Annahmen!$O$32,01_Annahmen!$K$32,IF(H$6=01_Annahmen!$O$32+1,(01_Annahmen!$K$32+01_Annahmen!$I$32)/2,01_Annahmen!$I$32))-01_Annahmen!$J$32)) -> 0 | I10: =IF(I$6<01_Annahmen!$O$32,0,(1-$C$4*01_Annahmen!$P$32)*01_Annahmen!$H$32*(1+01_Annahmen!$L$32)^(I$6-01_Annahmen!$O$32)*(1-IF(I$6=01_Annahmen!$O$32,01_Annahmen!$K$32,IF(I$6=01_Annahmen!$O$32+1,(01_Annahmen!$K$32+01_Annahmen!$I$32)/2,01_Annahmen!$I$32))-01_Annahmen!$J$32)) -> 1012151.2 | J10: =IF(J$6<01_Annahmen!$O$32,0,(1-$C$4*01_Annahmen!$P$32)*01_Annahmen!$H$32*(1+01_Annahmen!$L$32)^(J$6-01_Annahmen!$O$32)*(1-IF(J$6=01_Annahmen!$O$32,01_Annahmen!$K$32,IF(J$6=01_Annahmen!$O$32+1,(01_Annahmen!$K$32+01_Annahmen!$I$32)/2,01_Annahmen!$I$32))-01_Annahmen!$J$32)) -> 1474218.3 | K10: =IF(K$6<01_Annahmen!$O$32,0,(1-$C$4*01_Annahmen!$P$32)*01_Annahmen!$H$32*(1+01_Annahmen!$L$32)^(K$6-01_Annahmen!$O$32)*(1-IF(K$6=01_Annahmen!$O$32,01_Annahmen!$K$32,IF(K$6=01_Annahmen!$O$32+1,(01_Annahmen!$K$32+01_Annahmen!$I$32)/2,01_Annahmen!$I$32))-01_Annahmen!$J$32)) -> 1943250.3 | L10: =IF(L$6<01_Annahmen!$O$32,0,(1-$C$4*01_Annahmen!$P$32)*01_Annahmen!$H$32*(1+01_Annahmen!$L$32)^(L$6-01_Annahmen!$O$32)*(1-IF(L$6=01_Annahmen!$O$32,01_Annahmen!$K$32,IF(L$6=01_Annahmen!$O$32+1,(01_Annahmen!$K$32+01_Annahmen!$I$32)/2,01_Annahmen!$I$32))-01_Annahmen!$J$32)) -> 1958019 | ... S10: =IF(S$6<01_Annahmen!$O$32,0,(1-$C$4*01_Annahmen!$P$32)*01_Annahmen!$H$32*(1+01_Annahmen!$L$32)^(S$6-01_Annahmen!$O$32)*(1-IF(S$6=01_Annahmen!$O$32,01_Annahmen!$K$32,IF(S$6=01_Annahmen!$O$32+1,(01_Annahmen!$K$32+01_Annahmen!$I$32)/2,01_Annahmen!$I$32))-01_Annahmen!$J$32)) -> 2064590.9
B11: Nettoertrag (NOI) | C11: Phase C | D11: =SUM(E11:S11) -> 18113922 | E11: =IF(E$6<01_Annahmen!$O$33,0,(1-$C$4*01_Annahmen!$P$33)*01_Annahmen!$H$33*(1+01_Annahmen!$L$33)^(E$6-01_Annahmen!$O$33)*(1-IF(E$6=01_Annahmen!$O$33,01_Annahmen!$K$33,IF(E$6=01_Annahmen!$O$33+1,(01_Annahmen!$K$33+01_Annahmen!$I$33)/2,01_Annahmen!$I$33))-01_Annahmen!$J$33)) -> 0 | F11: =IF(F$6<01_Annahmen!$O$33,0,(1-$C$4*01_Annahmen!$P$33)*01_Annahmen!$H$33*(1+01_Annahmen!$L$33)^(F$6-01_Annahmen!$O$33)*(1-IF(F$6=01_Annahmen!$O$33,01_Annahmen!$K$33,IF(F$6=01_Annahmen!$O$33+1,(01_Annahmen!$K$33+01_Annahmen!$I$33)/2,01_Annahmen!$I$33))-01_Annahmen!$J$33)) -> 0 | G11: =IF(G$6<01_Annahmen!$O$33,0,(1-$C$4*01_Annahmen!$P$33)*01_Annahmen!$H$33*(1+01_Annahmen!$L$33)^(G$6-01_Annahmen!$O$33)*(1-IF(G$6=01_Annahmen!$O$33,01_Annahmen!$K$33,IF(G$6=01_Annahmen!$O$33+1,(01_Annahmen!$K$33+01_Annahmen!$I$33)/2,01_Annahmen!$I$33))-01_Annahmen!$J$33)) -> 0 | H11: =IF(H$6<01_Annahmen!$O$33,0,(1-$C$4*01_Annahmen!$P$33)*01_Annahmen!$H$33*(1+01_Annahmen!$L$33)^(H$6-01_Annahmen!$O$33)*(1-IF(H$6=01_Annahmen!$O$33,01_Annahmen!$K$33,IF(H$6=01_Annahmen!$O$33+1,(01_Annahmen!$K$33+01_Annahmen!$I$33)/2,01_Annahmen!$I$33))-01_Annahmen!$J$33)) -> 0 | I11: =IF(I$6<01_Annahmen!$O$33,0,(1-$C$4*01_Annahmen!$P$33)*01_Annahmen!$H$33*(1+01_Annahmen!$L$33)^(I$6-01_Annahmen!$O$33)*(1-IF(I$6=01_Annahmen!$O$33,01_Annahmen!$K$33,IF(I$6=01_Annahmen!$O$33+1,(01_Annahmen!$K$33+01_Annahmen!$I$33)/2,01_Annahmen!$I$33))-01_Annahmen!$J$33)) -> 0 | J11: =IF(J$6<01_Annahmen!$O$33,0,(1-$C$4*01_Annahmen!$P$33)*01_Annahmen!$H$33*(1+01_Annahmen!$L$33)^(J$6-01_Annahmen!$O$33)*(1-IF(J$6=01_Annahmen!$O$33,01_Annahmen!$K$33,IF(J$6=01_Annahmen!$O$33+1,(01_Annahmen!$K$33+01_Annahmen!$I$33)/2,01_Annahmen!$I$33))-01_Annahmen!$J$33)) -> 0 | K11: =IF(K$6<01_Annahmen!$O$33,0,(1-$C$4*01_Annahmen!$P$33)*01_Annahmen!$H$33*(1+01_Annahmen!$L$33)^(K$6-01_Annahmen!$O$33)*(1-IF(K$6=01_Annahmen!$O$33,01_Annahmen!$K$33,IF(K$6=01_Annahmen!$O$33+1,(01_Annahmen!$K$33+01_Annahmen!$I$33)/2,01_Annahmen!$I$33))-01_Annahmen!$J$33)) -> 1259792 | L11: =IF(L$6<01_Annahmen!$O$33,0,(1-$C$4*01_Annahmen!$P$33)*01_Annahmen!$H$33*(1+01_Annahmen!$L$33)^(L$6-01_Annahmen!$O$33)*(1-IF(L$6=01_Annahmen!$O$33,01_Annahmen!$K$33,IF(L$6=01_Annahmen!$O$33+1,(01_Annahmen!$K$33+01_Annahmen!$I$33)/2,01_Annahmen!$I$33))-01_Annahmen!$J$33)) -> 1677719.6 | ... S11: =IF(S$6<01_Annahmen!$O$33,0,(1-$C$4*01_Annahmen!$P$33)*01_Annahmen!$H$33*(1+01_Annahmen!$L$33)^(S$6-01_Annahmen!$O$33)*(1-IF(S$6=01_Annahmen!$O$33,01_Annahmen!$K$33,IF(S$6=01_Annahmen!$O$33+1,(01_Annahmen!$K$33+01_Annahmen!$I$33)/2,01_Annahmen!$I$33))-01_Annahmen!$J$33)) -> 2233310.7
B12: Nettoertrag total | D12: =SUM(D8:D11) -> 68507993 | E12: =SUM(E8:E11) -> 0 | F12: =SUM(F8:F11) -> 0 | G12: =SUM(G8:G11) -> 0 | H12: =SUM(H8:H11) -> 627757.52 | I12: =SUM(I8:I11) -> 2666524.5 | J12: =SUM(J8:J11) -> 3755919.2 | K12: =SUM(K8:K11) -> 5916948.5 | ... S12: =SUM(S8:S11) -> 7211279.9
B13: Verkaufserlös netto | C13: Phase A | D13: =SUM(E13:S13) -> 0 | E13: =IF(E$6=01_Annahmen!$S$30,$C$4*01_Annahmen!$P$30*01_Annahmen!$Q$30*(1-01_Annahmen!$R$30),0) -> 0 | F13: =IF(F$6=01_Annahmen!$S$30,$C$4*01_Annahmen!$P$30*01_Annahmen!$Q$30*(1-01_Annahmen!$R$30),0) -> 0 | G13: =IF(G$6=01_Annahmen!$S$30,$C$4*01_Annahmen!$P$30*01_Annahmen!$Q$30*(1-01_Annahmen!$R$30),0) -> 0 | H13: =IF(H$6=01_Annahmen!$S$30,$C$4*01_Annahmen!$P$30*01_Annahmen!$Q$30*(1-01_Annahmen!$R$30),0) -> 0 | I13: =IF(I$6=01_Annahmen!$S$30,$C$4*01_Annahmen!$P$30*01_Annahmen!$Q$30*(1-01_Annahmen!$R$30),0) -> 0 | J13: =IF(J$6=01_Annahmen!$S$30,$C$4*01_Annahmen!$P$30*01_Annahmen!$Q$30*(1-01_Annahmen!$R$30),0) -> 0 | K13: =IF(K$6=01_Annahmen!$S$30,$C$4*01_Annahmen!$P$30*01_Annahmen!$Q$30*(1-01_Annahmen!$R$30),0) -> 0 | L13: =IF(L$6=01_Annahmen!$S$30,$C$4*01_Annahmen!$P$30*01_Annahmen!$Q$30*(1-01_Annahmen!$R$30),0) -> 0 | ... S13: =IF(S$6=01_Annahmen!$S$30,$C$4*01_Annahmen!$P$30*01_Annahmen!$Q$30*(1-01_Annahmen!$R$30),0) -> 0
B14: Verkaufserlös netto | C14: Phase B | D14: =SUM(E14:S14) -> 0 | E14: =IF(E$6=01_Annahmen!$S$31,$C$4*01_Annahmen!$P$31*01_Annahmen!$Q$31*(1-01_Annahmen!$R$31),0) -> 0 | F14: =IF(F$6=01_Annahmen!$S$31,$C$4*01_Annahmen!$P$31*01_Annahmen!$Q$31*(1-01_Annahmen!$R$31),0) -> 0 | G14: =IF(G$6=01_Annahmen!$S$31,$C$4*01_Annahmen!$P$31*01_Annahmen!$Q$31*(1-01_Annahmen!$R$31),0) -> 0 | H14: =IF(H$6=01_Annahmen!$S$31,$C$4*01_Annahmen!$P$31*01_Annahmen!$Q$31*(1-01_Annahmen!$R$31),0) -> 0 | I14: =IF(I$6=01_Annahmen!$S$31,$C$4*01_Annahmen!$P$31*01_Annahmen!$Q$31*(1-01_Annahmen!$R$31),0) -> 0 | J14: =IF(J$6=01_Annahmen!$S$31,$C$4*01_Annahmen!$P$31*01_Annahmen!$Q$31*(1-01_Annahmen!$R$31),0) -> 0 | K14: =IF(K$6=01_Annahmen!$S$31,$C$4*01_Annahmen!$P$31*01_Annahmen!$Q$31*(1-01_Annahmen!$R$31),0) -> 0 | L14: =IF(L$6=01_Annahmen!$S$31,$C$4*01_Annahmen!$P$31*01_Annahmen!$Q$31*(1-01_Annahmen!$R$31),0) -> 0 | ... S14: =IF(S$6=01_Annahmen!$S$31,$C$4*01_Annahmen!$P$31*01_Annahmen!$Q$31*(1-01_Annahmen!$R$31),0) -> 0
B15: Verkaufserlös netto | C15: Phase D | D15: =SUM(E15:S15) -> 0 | E15: =IF(E$6=01_Annahmen!$S$32,$C$4*01_Annahmen!$P$32*01_Annahmen!$Q$32*(1-01_Annahmen!$R$32),0) -> 0 | F15: =IF(F$6=01_Annahmen!$S$32,$C$4*01_Annahmen!$P$32*01_Annahmen!$Q$32*(1-01_Annahmen!$R$32),0) -> 0 | G15: =IF(G$6=01_Annahmen!$S$32,$C$4*01_Annahmen!$P$32*01_Annahmen!$Q$32*(1-01_Annahmen!$R$32),0) -> 0 | H15: =IF(H$6=01_Annahmen!$S$32,$C$4*01_Annahmen!$P$32*01_Annahmen!$Q$32*(1-01_Annahmen!$R$32),0) -> 0 | I15: =IF(I$6=01_Annahmen!$S$32,$C$4*01_Annahmen!$P$32*01_Annahmen!$Q$32*(1-01_Annahmen!$R$32),0) -> 0 | J15: =IF(J$6=01_Annahmen!$S$32,$C$4*01_Annahmen!$P$32*01_Annahmen!$Q$32*(1-01_Annahmen!$R$32),0) -> 0 | K15: =IF(K$6=01_Annahmen!$S$32,$C$4*01_Annahmen!$P$32*01_Annahmen!$Q$32*(1-01_Annahmen!$R$32),0) -> 0 | L15: =IF(L$6=01_Annahmen!$S$32,$C$4*01_Annahmen!$P$32*01_Annahmen!$Q$32*(1-01_Annahmen!$R$32),0) -> 0 | ... S15: =IF(S$6=01_Annahmen!$S$32,$C$4*01_Annahmen!$P$32*01_Annahmen!$Q$32*(1-01_Annahmen!$R$32),0) -> 0
B16: Verkaufserlös netto | C16: Phase C | D16: =SUM(E16:S16) -> 0 | E16: =IF(E$6=01_Annahmen!$S$33,$C$4*01_Annahmen!$P$33*01_Annahmen!$Q$33*(1-01_Annahmen!$R$33),0) -> 0 | F16: =IF(F$6=01_Annahmen!$S$33,$C$4*01_Annahmen!$P$33*01_Annahmen!$Q$33*(1-01_Annahmen!$R$33),0) -> 0 | G16: =IF(G$6=01_Annahmen!$S$33,$C$4*01_Annahmen!$P$33*01_Annahmen!$Q$33*(1-01_Annahmen!$R$33),0) -> 0 | H16: =IF(H$6=01_Annahmen!$S$33,$C$4*01_Annahmen!$P$33*01_Annahmen!$Q$33*(1-01_Annahmen!$R$33),0) -> 0 | I16: =IF(I$6=01_Annahmen!$S$33,$C$4*01_Annahmen!$P$33*01_Annahmen!$Q$33*(1-01_Annahmen!$R$33),0) -> 0 | J16: =IF(J$6=01_Annahmen!$S$33,$C$4*01_Annahmen!$P$33*01_Annahmen!$Q$33*(1-01_Annahmen!$R$33),0) -> 0 | K16: =IF(K$6=01_Annahmen!$S$33,$C$4*01_Annahmen!$P$33*01_Annahmen!$Q$33*(1-01_Annahmen!$R$33),0) -> 0 | L16: =IF(L$6=01_Annahmen!$S$33,$C$4*01_Annahmen!$P$33*01_Annahmen!$Q$33*(1-01_Annahmen!$R$33),0) -> 0 | ... S16: =IF(S$6=01_Annahmen!$S$33,$C$4*01_Annahmen!$P$33*01_Annahmen!$Q$33*(1-01_Annahmen!$R$33),0) -> 0
B17: Verkaufserlöse total | D17: =SUM(D13:D16) -> 0 | E17: =SUM(E13:E16) -> 0 | F17: =SUM(F13:F16) -> 0 | G17: =SUM(G13:G16) -> 0 | H17: =SUM(H13:H16) -> 0 | I17: =SUM(I13:I16) -> 0 | J17: =SUM(J13:J16) -> 0 | K17: =SUM(K13:K16) -> 0 | ... S17: =SUM(S13:S16) -> 0
B18: Cash-Investitionen | D18: =SUM(E18:S18) -> -117670859 | E18: =-02_Investitionen!E16 -> -1262500 | F18: =-02_Investitionen!F16 -> -6375000 | G18: =-02_Investitionen!G16 -> -36242362 | H18: =-02_Investitionen!H16 -> -30381792 | I18: =-02_Investitionen!I16 -> -23667789 | J18: =-02_Investitionen!J16 -> -19741416 | K18: =-02_Investitionen!K16 -> 0 | L18: =-02_Investitionen!L16 -> 0 | ... S18: =-02_Investitionen!S16 -> 0
B19: Land (Sacheinlage) | D19: =SUM(E19:S19) -> -46101459 | E19: =IF(E$6=2026,-01_Annahmen!$C$25,0) -> -46101459 | F19: =IF(F$6=2026,-01_Annahmen!$C$25,0) -> 0 | G19: =IF(G$6=2026,-01_Annahmen!$C$25,0) -> 0 | H19: =IF(H$6=2026,-01_Annahmen!$C$25,0) -> 0 | I19: =IF(I$6=2026,-01_Annahmen!$C$25,0) -> 0 | J19: =IF(J$6=2026,-01_Annahmen!$C$25,0) -> 0 | K19: =IF(K$6=2026,-01_Annahmen!$C$25,0) -> 0 | L19: =IF(L$6=2026,-01_Annahmen!$C$25,0) -> 0 | ... S19: =IF(S$6=2026,-01_Annahmen!$C$25,0) -> 0 | T19: NOI 2041 | U19: Kap.satz
B20: Terminal Value 2040 | C20: Phase A | D20: =SUM(E20:S20) -> 32096758 | E20: =IF(E$6=01_Annahmen!$C$14,E8*(1+01_Annahmen!$L$30)/(01_Annahmen!$M$30+01_Annahmen!$C$13),0) -> 0 | F20: =IF(F$6=01_Annahmen!$C$14,F8*(1+01_Annahmen!$L$30)/(01_Annahmen!$M$30+01_Annahmen!$C$13),0) -> 0 | G20: =IF(G$6=01_Annahmen!$C$14,G8*(1+01_Annahmen!$L$30)/(01_Annahmen!$M$30+01_Annahmen!$C$13),0) -> 0 | H20: =IF(H$6=01_Annahmen!$C$14,H8*(1+01_Annahmen!$L$30)/(01_Annahmen!$M$30+01_Annahmen!$C$13),0) -> 0 | I20: =IF(I$6=01_Annahmen!$C$14,I8*(1+01_Annahmen!$L$30)/(01_Annahmen!$M$30+01_Annahmen!$C$13),0) -> 0 | J20: =IF(J$6=01_Annahmen!$C$14,J8*(1+01_Annahmen!$L$30)/(01_Annahmen!$M$30+01_Annahmen!$C$13),0) -> 0 | K20: =IF(K$6=01_Annahmen!$C$14,K8*(1+01_Annahmen!$L$30)/(01_Annahmen!$M$30+01_Annahmen!$C$13),0) -> 0 | L20: =IF(L$6=01_Annahmen!$C$14,L8*(1+01_Annahmen!$L$30)/(01_Annahmen!$M$30+01_Annahmen!$C$13),0) -> 0 | ... S20: =IF(S$6=01_Annahmen!$C$14,S8*(1+01_Annahmen!$L$30)/(01_Annahmen!$M$30+01_Annahmen!$C$13),0) -> 32096758 | T20: =S8*(1+01_Annahmen!$L$30) -> 1158051 | U20: =01_Annahmen!$M$30 -> 0.03458
B21: Terminal Value 2040 | C21: Phase B | D21: =SUM(E21:S21) -> 37956123 | E21: =IF(E$6=01_Annahmen!$C$14,E9*(1+01_Annahmen!$L$31)/(01_Annahmen!$M$31+01_Annahmen!$C$13),0) -> 0 | F21: =IF(F$6=01_Annahmen!$C$14,F9*(1+01_Annahmen!$L$31)/(01_Annahmen!$M$31+01_Annahmen!$C$13),0) -> 0 | G21: =IF(G$6=01_Annahmen!$C$14,G9*(1+01_Annahmen!$L$31)/(01_Annahmen!$M$31+01_Annahmen!$C$13),0) -> 0 | H21: =IF(H$6=01_Annahmen!$C$14,H9*(1+01_Annahmen!$L$31)/(01_Annahmen!$M$31+01_Annahmen!$C$13),0) -> 0 | I21: =IF(I$6=01_Annahmen!$C$14,I9*(1+01_Annahmen!$L$31)/(01_Annahmen!$M$31+01_Annahmen!$C$13),0) -> 0 | J21: =IF(J$6=01_Annahmen!$C$14,J9*(1+01_Annahmen!$L$31)/(01_Annahmen!$M$31+01_Annahmen!$C$13),0) -> 0 | K21: =IF(K$6=01_Annahmen!$C$14,K9*(1+01_Annahmen!$L$31)/(01_Annahmen!$M$31+01_Annahmen!$C$13),0) -> 0 | L21: =IF(L$6=01_Annahmen!$C$14,L9*(1+01_Annahmen!$L$31)/(01_Annahmen!$M$31+01_Annahmen!$C$13),0) -> 0 | ... S21: =IF(S$6=01_Annahmen!$C$14,S9*(1+01_Annahmen!$L$31)/(01_Annahmen!$M$31+01_Annahmen!$C$13),0) -> 37956123 | T21: =S9*(1+01_Annahmen!$L$31) -> 1781280.8 | U21: =01_Annahmen!$M$31 -> 0.04543
B22: Terminal Value 2040 | C22: Phase D | D22: =SUM(E22:S22) -> 39132465 | E22: =IF(E$6=01_Annahmen!$C$14,E10*(1+01_Annahmen!$L$32)/(01_Annahmen!$M$32+01_Annahmen!$C$13),0) -> 0 | F22: =IF(F$6=01_Annahmen!$C$14,F10*(1+01_Annahmen!$L$32)/(01_Annahmen!$M$32+01_Annahmen!$C$13),0) -> 0 | G22: =IF(G$6=01_Annahmen!$C$14,G10*(1+01_Annahmen!$L$32)/(01_Annahmen!$M$32+01_Annahmen!$C$13),0) -> 0 | H22: =IF(H$6=01_Annahmen!$C$14,H10*(1+01_Annahmen!$L$32)/(01_Annahmen!$M$32+01_Annahmen!$C$13),0) -> 0 | I22: =IF(I$6=01_Annahmen!$C$14,I10*(1+01_Annahmen!$L$32)/(01_Annahmen!$M$32+01_Annahmen!$C$13),0) -> 0 | J22: =IF(J$6=01_Annahmen!$C$14,J10*(1+01_Annahmen!$L$32)/(01_Annahmen!$M$32+01_Annahmen!$C$13),0) -> 0 | K22: =IF(K$6=01_Annahmen!$C$14,K10*(1+01_Annahmen!$L$32)/(01_Annahmen!$M$32+01_Annahmen!$C$13),0) -> 0 | L22: =IF(L$6=01_Annahmen!$C$14,L10*(1+01_Annahmen!$L$32)/(01_Annahmen!$M$32+01_Annahmen!$C$13),0) -> 0 | ... S22: =IF(S$6=01_Annahmen!$C$14,S10*(1+01_Annahmen!$L$32)/(01_Annahmen!$M$32+01_Annahmen!$C$13),0) -> 39132465 | T22: =S10*(1+01_Annahmen!$L$32) -> 2080281.8 | U22: =01_Annahmen!$M$32 -> 0.05166
B23: Terminal Value 2040 | C23: Phase C | D23: =SUM(E23:S23) -> 62535175 | E23: =IF(E$6=01_Annahmen!$C$14,E11*(1+01_Annahmen!$L$33)/(01_Annahmen!$M$33+01_Annahmen!$C$13),0) -> 0 | F23: =IF(F$6=01_Annahmen!$C$14,F11*(1+01_Annahmen!$L$33)/(01_Annahmen!$M$33+01_Annahmen!$C$13),0) -> 0 | G23: =IF(G$6=01_Annahmen!$C$14,G11*(1+01_Annahmen!$L$33)/(01_Annahmen!$M$33+01_Annahmen!$C$13),0) -> 0 | H23: =IF(H$6=01_Annahmen!$C$14,H11*(1+01_Annahmen!$L$33)/(01_Annahmen!$M$33+01_Annahmen!$C$13),0) -> 0 | I23: =IF(I$6=01_Annahmen!$C$14,I11*(1+01_Annahmen!$L$33)/(01_Annahmen!$M$33+01_Annahmen!$C$13),0) -> 0 | J23: =IF(J$6=01_Annahmen!$C$14,J11*(1+01_Annahmen!$L$33)/(01_Annahmen!$M$33+01_Annahmen!$C$13),0) -> 0 | K23: =IF(K$6=01_Annahmen!$C$14,K11*(1+01_Annahmen!$L$33)/(01_Annahmen!$M$33+01_Annahmen!$C$13),0) -> 0 | L23: =IF(L$6=01_Annahmen!$C$14,L11*(1+01_Annahmen!$L$33)/(01_Annahmen!$M$33+01_Annahmen!$C$13),0) -> 0 | ... S23: =IF(S$6=01_Annahmen!$C$14,S11*(1+01_Annahmen!$L$33)/(01_Annahmen!$M$33+01_Annahmen!$C$13),0) -> 62535175 | T23: =S11*(1+01_Annahmen!$L$33) -> 2255643.8 | U23: =01_Annahmen!$M$33 -> 0.03457
B24: Terminal Value total | D24: =SUM(D20:D23) -> 1.7172052e+08 | E24: =SUM(E20:E23) -> 0 | F24: =SUM(F20:F23) -> 0 | G24: =SUM(G20:G23) -> 0 | H24: =SUM(H20:H23) -> 0 | I24: =SUM(I20:I23) -> 0 | J24: =SUM(J20:J23) -> 0 | K24: =SUM(K20:K23) -> 0 | ... S24: =SUM(S20:S23) -> 1.7172052e+08
B25: Projekt-Cashflow (unlevered) | D25: =D12+D17+D18+D19+D24 -> 76456195 | E25: =E12+E17+E18+E19+E24 -> -47363959 | F25: =F12+F17+F18+F19+F24 -> -6375000 | G25: =G12+G17+G18+G19+G24 -> -36242362 | H25: =H12+H17+H18+H19+H24 -> -29754034 | I25: =I12+I17+I18+I19+I24 -> -21001265 | J25: =J12+J17+J18+J19+J24 -> -15985497 | K25: =K12+K17+K18+K19+K24 -> 5916948.5 | ... S25: =S12+S17+S18+S19+S24 -> 1.789318e+08
B26: Diskontfaktor | E26: =1/(1+01_Annahmen!$C$12)^(E$6-2026) -> 1 | F26: =1/(1+01_Annahmen!$C$12)^(F$6-2026) -> 0.94367575 | G26: =1/(1+01_Annahmen!$C$12)^(G$6-2026) -> 0.89052392 | H26: =1/(1+01_Annahmen!$C$12)^(H$6-2026) -> 0.84036583 | I26: =1/(1+01_Annahmen!$C$12)^(I$6-2026) -> 0.79303286 | J26: =1/(1+01_Annahmen!$C$12)^(J$6-2026) -> 0.74836588 | K26: =1/(1+01_Annahmen!$C$12)^(K$6-2026) -> 0.70621473 | L26: =1/(1+01_Annahmen!$C$12)^(L$6-2026) -> 0.66643772 | ... S26: =1/(1+01_Annahmen!$C$12)^(S$6-2026) -> 0.44413923
B27: Barwert | D27: =SUM(E27:S27) -> -28475604 | E27: =E25*E26 -> -47363959 | F27: =F25*F26 -> -6015932.9 | G27: =G25*G26 -> -32274690 | H27: =H25*H26 -> -25004274 | I27: =I25*I26 -> -16654693 | J27: =J25*J26 -> -11963001 | K27: =K25*K26 -> 4178636.2 | L27: =L25*L26 -> 4247743.8 | ... S27: =S25*S26 -> 79470632
B28: Kumulierter Cashflow (Payback) | E28: =E25-E24 -> -47363959 | F28: =F25-F24+E28 -> -53738959 | G28: =G25-G24+F28 -> -89981320 | H28: =H25-H24+G28 -> -1.1973535e+08 | I28: =I25-I24+H28 -> -1.4073662e+08 | J28: =J25-J24+I28 -> -1.5672212e+08 | K28: =K25-K24+J28 -> -1.5080517e+08 | L28: =L25-L24+K28 -> -1.4443136e+08 | M28: =M25-M24+L28 -> -1.3759214e+08 | ... S28: =S25-S24+R28 -> -95264325
B30: B FINANZIERUNG — Eigenkapital zuerst, danach Baukredit; Konsolidierung in Hypothek
B31: Finanzierungsbedarf (Cash-Investitionen) | D31: =SUM(E31:S31) -> 117670859 | E31: =-E18 -> 1262500 | F31: =-F18 -> 6375000 | G31: =-G18 -> 36242362 | H31: =-H18 -> 30381792 | I31: =-I18 -> 23667789 | J31: =-J18 -> 19741416 | K31: =-K18 -> 0 | L31: =-L18 -> 0 | ... S31: =-S18 -> 0
B32: Erforderliches Bar-Eigenkapital (Mindest-EK − Land) | D32: =MAX(0,01_Annahmen!$C$19*02_Investitionen!$D$18-01_Annahmen!$C$25) -> 11218852
B33: Eigenkapital-Einschuss (bar) | D33: =SUM(E33:S33) -> 11218852 | E33: =MIN(E31,$D$32-0) -> 1262500 | F33: =MIN(F31,$D$32-SUM($E33:E33)) -> 6375000 | G33: =MIN(G31,$D$32-SUM($E33:F33)) -> 3581352.3 | H33: =MIN(H31,$D$32-SUM($E33:G33)) -> 0 | I33: =MIN(I31,$D$32-SUM($E33:H33)) -> 0 | J33: =MIN(J31,$D$32-SUM($E33:I33)) -> 0 | K33: =MIN(K31,$D$32-SUM($E33:J33)) -> 0 | L33: =MIN(L31,$D$32-SUM($E33:K33)) -> 0 | M33: =MIN(M31,$D$32-SUM($E33:L33)) -> 0 | ... S33: =MIN(S31,$D$32-SUM($E33:R33)) -> 0
B34: Kreditziehung | D34: =SUM(E34:S34) -> 1.0645201e+08 | E34: =E31-E33 -> 0 | F34: =F31-F33 -> 0 | G34: =G31-G33 -> 32661009 | H34: =H31-H33 -> 30381792 | I34: =I31-I33 -> 23667789 | J34: =J31-J33 -> 19741416 | K34: =K31-K33 -> 0 | L34: =L31-L33 -> 0 | ... S34: =S31-S33 -> 0
B35: Zinsen | D35: =SUM(E35:S35) -> 26408306 | E35: =01_Annahmen!$C$20*(0+E34/2) -> 0 | F35: =01_Annahmen!$C$20*(E39+F34/2) -> 0 | G35: =01_Annahmen!$C$20*(F39+G34/2) -> 367436.35 | H35: =01_Annahmen!$C$20*(G39+H34/2) -> 1084935.2 | I35: =01_Annahmen!$C$20*(H39+I34/2) -> 1703279.5 | J35: =01_Annahmen!$C$20*(I39+J34/2) -> 2191633 | K35: =01_Annahmen!$C$20*(J39+K34/2) -> 2413724 | L35: =01_Annahmen!$C$20*(K39+L34/2) -> 2413724 | M35: =01_Annahmen!$C$20*(L39+M34/2) -> 2389586.7 | ... S35: =01_Annahmen!$C$20*(R39+S34/2) -> 2249748.5
B36: Amortisation | D36: =SUM(E36:S36) -> 8287688.1 | E36: =IF(E$6>=01_Annahmen!$C$23,MIN(01_Annahmen!$C$22*0,0),0) -> 0 | F36: =IF(F$6>=01_Annahmen!$C$23,MIN(01_Annahmen!$C$22*E39,E39),0) -> 0 | G36: =IF(G$6>=01_Annahmen!$C$23,MIN(01_Annahmen!$C$22*F39,F39),0) -> 0 | H36: =IF(H$6>=01_Annahmen!$C$23,MIN(01_Annahmen!$C$22*G39,G39),0) -> 0 | I36: =IF(I$6>=01_Annahmen!$C$23,MIN(01_Annahmen!$C$22*H39,H39),0) -> 0 | J36: =IF(J$6>=01_Annahmen!$C$23,MIN(01_Annahmen!$C$22*I39,I39),0) -> 0 | K36: =IF(K$6>=01_Annahmen!$C$23,MIN(01_Annahmen!$C$22*J39,J39),0) -> 0 | L36: =IF(L$6>=01_Annahmen!$C$23,MIN(01_Annahmen!$C$22*K39,K39),0) -> 1072766.2 | M36: =IF(M$6>=01_Annahmen!$C$23,MIN(01_Annahmen!$C$22*L39,L39),0) -> 1062038.5 | ... S36: =IF(S$6>=01_Annahmen!$C$23,MIN(01_Annahmen!$C$22*R39,R39),0) -> 999888.21
B37: Rückzahlung aus Verkauf | D37: =SUM(E37:S37) -> 0 | E37: =MIN(0+E34-E36,E17) -> 0 | F37: =MIN(E39+F34-F36,F17) -> 0 | G37: =MIN(F39+G34-G36,G17) -> 0 | H37: =MIN(G39+H34-H36,H17) -> 0 | I37: =MIN(H39+I34-I36,I17) -> 0 | J37: =MIN(I39+J34-J36,J17) -> 0 | K37: =MIN(J39+K34-K36,K17) -> 0 | L37: =MIN(K39+L34-L36,L17) -> 0 | M37: =MIN(L39+M34-M36,M17) -> 0 | ... S37: =MIN(R39+S34-S36,S17) -> 0
B38: Kapitalisierte Zinsen / Unterdeckung | D38: =SUM(E38:S38) -> 824614.02 | E38: =MAX(0,E35+E36-E12) -> 0 | F38: =MAX(0,F35+F36-F12) -> 0 | G38: =MAX(0,G35+G36-G12) -> 367436.35 | H38: =MAX(0,H35+H36-H12) -> 457177.66 | I38: =MAX(0,I35+I36-I12) -> 0 | J38: =MAX(0,J35+J36-J12) -> 0 | K38: =MAX(0,K35+K36-K12) -> 0 | L38: =MAX(0,L35+L36-L12) -> 0 | ... S38: =MAX(0,S35+S36-S12) -> 0
B39: Kreditsaldo Jahresende | C39: Peak | D39: =MAX(E39:S39) -> 1.0727662e+08 | E39: =0+E34+E38-E36-E37 -> 0 | F39: =E39+F34+F38-F36-F37 -> 0 | G39: =F39+G34+G38-G36-G37 -> 33028446 | H39: =G39+H34+H38-H36-H37 -> 63867415 | I39: =H39+I34+I38-I36-I37 -> 87535204 | J39: =I39+J34+J38-J36-J37 -> 1.0727662e+08 | K39: =J39+K34+K38-K36-K37 -> 1.0727662e+08 | L39: =K39+L34+L38-L36-L37 -> 1.0620385e+08 | M39: =L39+M34+M38-M36-M37 -> 1.0514182e+08 | ... S39: =R39+S34+S38-S36-S37 -> 98988933
B40: Ertragswert gehaltener, bezogener Phasen | E40: =IF(E$6>=01_Annahmen!$O$30,(1-$C$4*01_Annahmen!$P$30)*01_Annahmen!$N$30,0)+IF(E$6>=01_Annahmen!$O$31,(1-$C$4*01_Annahmen!$P$31)*01_Annahmen!$N$31,0)+IF(E$6>=01_Annahmen!$O$32,(1-$C$4*01_Annahmen!$P$32)*01_Annahmen!$N$32,0)+IF(E$6>=01_Annahmen!$O$33,(1-$C$4*01_Annahmen!$P$33)*01_Annahmen!$N$33,0) -> 0 | F40: =IF(F$6>=01_Annahmen!$O$30,(1-$C$4*01_Annahmen!$P$30)*01_Annahmen!$N$30,0)+IF(F$6>=01_Annahmen!$O$31,(1-$C$4*01_Annahmen!$P$31)*01_Annahmen!$N$31,0)+IF(F$6>=01_Annahmen!$O$32,(1-$C$4*01_Annahmen!$P$32)*01_Annahmen!$N$32,0)+IF(F$6>=01_Annahmen!$O$33,(1-$C$4*01_Annahmen!$P$33)*01_Annahmen!$N$33,0) -> 0 | G40: =IF(G$6>=01_Annahmen!$O$30,(1-$C$4*01_Annahmen!$P$30)*01_Annahmen!$N$30,0)+IF(G$6>=01_Annahmen!$O$31,(1-$C$4*01_Annahmen!$P$31)*01_Annahmen!$N$31,0)+IF(G$6>=01_Annahmen!$O$32,(1-$C$4*01_Annahmen!$P$32)*01_Annahmen!$N$32,0)+IF(G$6>=01_Annahmen!$O$33,(1-$C$4*01_Annahmen!$P$33)*01_Annahmen!$N$33,0) -> 0 | H40: =IF(H$6>=01_Annahmen!$O$30,(1-$C$4*01_Annahmen!$P$30)*01_Annahmen!$N$30,0)+IF(H$6>=01_Annahmen!$O$31,(1-$C$4*01_Annahmen!$P$31)*01_Annahmen!$N$31,0)+IF(H$6>=01_Annahmen!$O$32,(1-$C$4*01_Annahmen!$P$32)*01_Annahmen!$N$32,0)+IF(H$6>=01_Annahmen!$O$33,(1-$C$4*01_Annahmen!$P$33)*01_Annahmen!$N$33,0) -> 29719823 | I40: =IF(I$6>=01_Annahmen!$O$30,(1-$C$4*01_Annahmen!$P$30)*01_Annahmen!$N$30,0)+IF(I$6>=01_Annahmen!$O$31,(1-$C$4*01_Annahmen!$P$31)*01_Annahmen!$N$31,0)+IF(I$6>=01_Annahmen!$O$32,(1-$C$4*01_Annahmen!$P$32)*01_Annahmen!$N$32,0)+IF(I$6>=01_Annahmen!$O$33,(1-$C$4*01_Annahmen!$P$33)*01_Annahmen!$N$33,0) -> 1.0261132e+08 | J40: =IF(J$6>=01_Annahmen!$O$30,(1-$C$4*01_Annahmen!$P$30)*01_Annahmen!$N$30,0)+IF(J$6>=01_Annahmen!$O$31,(1-$C$4*01_Annahmen!$P$31)*01_Annahmen!$N$31,0)+IF(J$6>=01_Annahmen!$O$32,(1-$C$4*01_Annahmen!$P$32)*01_Annahmen!$N$32,0)+IF(J$6>=01_Annahmen!$O$33,(1-$C$4*01_Annahmen!$P$33)*01_Annahmen!$N$33,0) -> 1.0261132e+08 | K40: =IF(K$6>=01_Annahmen!$O$30,(1-$C$4*01_Annahmen!$P$30)*01_Annahmen!$N$30,0)+IF(K$6>=01_Annahmen!$O$31,(1-$C$4*01_Annahmen!$P$31)*01_Annahmen!$N$31,0)+IF(K$6>=01_Annahmen!$O$32,(1-$C$4*01_Annahmen!$P$32)*01_Annahmen!$N$32,0)+IF(K$6>=01_Annahmen!$O$33,(1-$C$4*01_Annahmen!$P$33)*01_Annahmen!$N$33,0) -> 1.6227071e+08 | L40: =IF(L$6>=01_Annahmen!$O$30,(1-$C$4*01_Annahmen!$P$30)*01_Annahmen!$N$30,0)+IF(L$6>=01_Annahmen!$O$31,(1-$C$4*01_Annahmen!$P$31)*01_Annahmen!$N$31,0)+IF(L$6>=01_Annahmen!$O$32,(1-$C$4*01_Annahmen!$P$32)*01_Annahmen!$N$32,0)+IF(L$6>=01_Annahmen!$O$33,(1-$C$4*01_Annahmen!$P$33)*01_Annahmen!$N$33,0) -> 1.6227071e+08 | ... S40: =IF(S$6>=01_Annahmen!$O$30,(1-$C$4*01_Annahmen!$P$30)*01_Annahmen!$N$30,0)+IF(S$6>=01_Annahmen!$O$31,(1-$C$4*01_Annahmen!$P$31)*01_Annahmen!$N$31,0)+IF(S$6>=01_Annahmen!$O$32,(1-$C$4*01_Annahmen!$P$32)*01_Annahmen!$N$32,0)+IF(S$6>=01_Annahmen!$O$33,(1-$C$4*01_Annahmen!$P$33)*01_Annahmen!$N$33,0) -> 1.6227071e+08
B41: LTV (Kreditsaldo ÷ Ertragswert) | E41: =IF(E40=0,0,E39/E40) -> 0 | F41: =IF(F40=0,0,F39/F40) -> 0 | G41: =IF(G40=0,0,G39/G40) -> 0 | H41: =IF(H40=0,0,H39/H40) -> 2.1489837 | I41: =IF(I40=0,0,I39/I40) -> 0.85307548 | J41: =IF(J40=0,0,J39/J40) -> 1.0454657 | K41: =IF(K40=0,0,K39/K40) -> 0.66109665 | L41: =IF(L40=0,0,L39/L40) -> 0.65448568 | ... S41: =IF(S40=0,0,S39/S40) -> 0.61002342
B42: LTC (Kreditsaldo ÷ Anlagekosten) | E42: =E39/02_Investitionen!$D$18 -> 0 | F42: =F39/02_Investitionen!$D$18 -> 0 | G42: =G39/02_Investitionen!$D$18 -> 0.20167294 | H42: =H39/02_Investitionen!$D$18 -> 0.38997686 | I42: =I39/02_Investitionen!$D$18 -> 0.53449328 | J42: =J39/02_Investitionen!$D$18 -> 0.65503512 | K42: =K39/02_Investitionen!$D$18 -> 0.65503512 | L42: =L39/02_Investitionen!$D$18 -> 0.64848477 | ... S42: =S39/02_Investitionen!$D$18 -> 0.60443019
...

Sheet 04_DCF Mix
B2: DCF und Finanzierung — Szenario Mix (Verkauf Villette I + II)
B3: Villette I (Phase A) und Villette II (Phase C) als Stockwerkeigentum verkauft; Phasen B und D im Bestand
B4: Szenario-Schalter Verkauf (0 = Bestand, 1 = Mix) | C4: 1
B5: Position | C5: Phase | D5: Total / Wert | E5: 2026 | F5: 2027 | G5: 2028 | H5: 2029 | I5: 2030 | J5: 2031 | K5: 2032 | L5: 2033 | M5: 2034 | N5: 2035 | O5: 2036 | P5: 2037 | Q5: 2038 | R5: 2039 | S5: 2040
E6: 2026 | F6: 2027 | G6: 2028 | H6: 2029 | I6: 2030 | J6: 2031 | K6: 2032 | L6: 2033 | M6: 2034 | N6: 2035 | O6: 2036 | P6: 2037 | Q6: 2038 | R6: 2039 | S6: 2040
B7: A PROJEKT-CASHFLOW (unlevered)
B8: Nettoertrag (NOI) | C8: Phase A | D8: =SUM(E8:S8) -> 0 | E8: =IF(E$6<01_Annahmen!$O$30,0,(1-$C$4*01_Annahmen!$P$30)*01_Annahmen!$H$30*(1+01_Annahmen!$L$30)^(E$6-01_Annahmen!$O$30)*(1-IF(E$6=01_Annahmen!$O$30,01_Annahmen!$K$30,IF(E$6=01_Annahmen!$O$30+1,(01_Annahmen!$K$30+01_Annahmen!$I$30)/2,01_Annahmen!$I$30))-01_Annahmen!$J$30)) -> 0 | F8: =IF(F$6<01_Annahmen!$O$30,0,(1-$C$4*01_Annahmen!$P$30)*01_Annahmen!$H$30*(1+01_Annahmen!$L$30)^(F$6-01_Annahmen!$O$30)*(1-IF(F$6=01_Annahmen!$O$30,01_Annahmen!$K$30,IF(F$6=01_Annahmen!$O$30+1,(01_Annahmen!$K$30+01_Annahmen!$I$30)/2,01_Annahmen!$I$30))-01_Annahmen!$J$30)) -> 0 | G8: =IF(G$6<01_Annahmen!$O$30,0,(1-$C$4*01_Annahmen!$P$30)*01_Annahmen!$H$30*(1+01_Annahmen!$L$30)^(G$6-01_Annahmen!$O$30)*(1-IF(G$6=01_Annahmen!$O$30,01_Annahmen!$K$30,IF(G$6=01_Annahmen!$O$30+1,(01_Annahmen!$K$30+01_Annahmen!$I$30)/2,01_Annahmen!$I$30))-01_Annahmen!$J$30)) -> 0 | H8: =IF(H$6<01_Annahmen!$O$30,0,(1-$C$4*01_Annahmen!$P$30)*01_Annahmen!$H$30*(1+01_Annahmen!$L$30)^(H$6-01_Annahmen!$O$30)*(1-IF(H$6=01_Annahmen!$O$30,01_Annahmen!$K$30,IF(H$6=01_Annahmen!$O$30+1,(01_Annahmen!$K$30+01_Annahmen!$I$30)/2,01_Annahmen!$I$30))-01_Annahmen!$J$30)) -> 0 | I8: =IF(I$6<01_Annahmen!$O$30,0,(1-$C$4*01_Annahmen!$P$30)*01_Annahmen!$H$30*(1+01_Annahmen!$L$30)^(I$6-01_Annahmen!$O$30)*(1-IF(I$6=01_Annahmen!$O$30,01_Annahmen!$K$30,IF(I$6=01_Annahmen!$O$30+1,(01_Annahmen!$K$30+01_Annahmen!$I$30)/2,01_Annahmen!$I$30))-01_Annahmen!$J$30)) -> 0 | J8: =IF(J$6<01_Annahmen!$O$30,0,(1-$C$4*01_Annahmen!$P$30)*01_Annahmen!$H$30*(1+01_Annahmen!$L$30)^(J$6-01_Annahmen!$O$30)*(1-IF(J$6=01_Annahmen!$O$30,01_Annahmen!$K$30,IF(J$6=01_Annahmen!$O$30+1,(01_Annahmen!$K$30+01_Annahmen!$I$30)/2,01_Annahmen!$I$30))-01_Annahmen!$J$30)) -> 0 | K8: =IF(K$6<01_Annahmen!$O$30,0,(1-$C$4*01_Annahmen!$P$30)*01_Annahmen!$H$30*(1+01_Annahmen!$L$30)^(K$6-01_Annahmen!$O$30)*(1-IF(K$6=01_Annahmen!$O$30,01_Annahmen!$K$30,IF(K$6=01_Annahmen!$O$30+1,(01_Annahmen!$K$30+01_Annahmen!$I$30)/2,01_Annahmen!$I$30))-01_Annahmen!$J$30)) -> 0 | L8: =IF(L$6<01_Annahmen!$O$30,0,(1-$C$4*01_Annahmen!$P$30)*01_Annahmen!$H$30*(1+01_Annahmen!$L$30)^(L$6-01_Annahmen!$O$30)*(1-IF(L$6=01_Annahmen!$O$30,01_Annahmen!$K$30,IF(L$6=01_Annahmen!$O$30+1,(01_Annahmen!$K$30+01_Annahmen!$I$30)/2,01_Annahmen!$I$30))-01_Annahmen!$J$30)) -> 0 | ... S8: =IF(S$6<01_Annahmen!$O$30,0,(1-$C$4*01_Annahmen!$P$30)*01_Annahmen!$H$30*(1+01_Annahmen!$L$30)^(S$6-01_Annahmen!$O$30)*(1-IF(S$6=01_Annahmen!$O$30,01_Annahmen!$K$30,IF(S$6=01_Annahmen!$O$30+1,(01_Annahmen!$K$30+01_Annahmen!$I$30)/2,01_Annahmen!$I$30))-01_Annahmen!$J$30)) -> 0
B9: Nettoertrag (NOI) | C9: Phase B | D9: =SUM(E9:S9) -> 17445215 | E9: =IF(E$6<01_Annahmen!$O$31,0,(1-$C$4*01_Annahmen!$P$31)*01_Annahmen!$H$31*(1+01_Annahmen!$L$31)^(E$6-01_Annahmen!$O$31)*(1-IF(E$6=01_Annahmen!$O$31,01_Annahmen!$K$31,IF(E$6=01_Annahmen!$O$31+1,(01_Annahmen!$K$31+01_Annahmen!$I$31)/2,01_Annahmen!$I$31))-01_Annahmen!$J$31)) -> 0 | F9: =IF(F$6<01_Annahmen!$O$31,0,(1-$C$4*01_Annahmen!$P$31)*01_Annahmen!$H$31*(1+01_Annahmen!$L$31)^(F$6-01_Annahmen!$O$31)*(1-IF(F$6=01_Annahmen!$O$31,01_Annahmen!$K$31,IF(F$6=01_Annahmen!$O$31+1,(01_Annahmen!$K$31+01_Annahmen!$I$31)/2,01_Annahmen!$I$31))-01_Annahmen!$J$31)) -> 0 | G9: =IF(G$6<01_Annahmen!$O$31,0,(1-$C$4*01_Annahmen!$P$31)*01_Annahmen!$H$31*(1+01_Annahmen!$L$31)^(G$6-01_Annahmen!$O$31)*(1-IF(G$6=01_Annahmen!$O$31,01_Annahmen!$K$31,IF(G$6=01_Annahmen!$O$31+1,(01_Annahmen!$K$31+01_Annahmen!$I$31)/2,01_Annahmen!$I$31))-01_Annahmen!$J$31)) -> 0 | H9: =IF(H$6<01_Annahmen!$O$31,0,(1-$C$4*01_Annahmen!$P$31)*01_Annahmen!$H$31*(1+01_Annahmen!$L$31)^(H$6-01_Annahmen!$O$31)*(1-IF(H$6=01_Annahmen!$O$31,01_Annahmen!$K$31,IF(H$6=01_Annahmen!$O$31+1,(01_Annahmen!$K$31+01_Annahmen!$I$31)/2,01_Annahmen!$I$31))-01_Annahmen!$J$31)) -> 0 | I9: =IF(I$6<01_Annahmen!$O$31,0,(1-$C$4*01_Annahmen!$P$31)*01_Annahmen!$H$31*(1+01_Annahmen!$L$31)^(I$6-01_Annahmen!$O$31)*(1-IF(I$6=01_Annahmen!$O$31,01_Annahmen!$K$31,IF(I$6=01_Annahmen!$O$31+1,(01_Annahmen!$K$31+01_Annahmen!$I$31)/2,01_Annahmen!$I$31))-01_Annahmen!$J$31)) -> 818361.44 | J9: =IF(J$6<01_Annahmen!$O$31,0,(1-$C$4*01_Annahmen!$P$31)*01_Annahmen!$H$31*(1+01_Annahmen!$L$31)^(J$6-01_Annahmen!$O$31)*(1-IF(J$6=01_Annahmen!$O$31,01_Annahmen!$K$31,IF(J$6=01_Annahmen!$O$31+1,(01_Annahmen!$K$31+01_Annahmen!$I$31)/2,01_Annahmen!$I$31))-01_Annahmen!$J$31)) -> 1233332.4 | K9: =IF(K$6<01_Annahmen!$O$31,0,(1-$C$4*01_Annahmen!$P$31)*01_Annahmen!$H$31*(1+01_Annahmen!$L$31)^(K$6-01_Annahmen!$O$31)*(1-IF(K$6=01_Annahmen!$O$31,01_Annahmen!$K$31,IF(K$6=01_Annahmen!$O$31+1,(01_Annahmen!$K$31+01_Annahmen!$I$31)/2,01_Annahmen!$I$31))-01_Annahmen!$J$31)) -> 1655054 | L9: =IF(L$6<01_Annahmen!$O$31,0,(1-$C$4*01_Annahmen!$P$31)*01_Annahmen!$H$31*(1+01_Annahmen!$L$31)^(L$6-01_Annahmen!$O$31)*(1-IF(L$6=01_Annahmen!$O$31,01_Annahmen!$K$31,IF(L$6=01_Annahmen!$O$31+1,(01_Annahmen!$K$31+01_Annahmen!$I$31)/2,01_Annahmen!$I$31))-01_Annahmen!$J$31)) -> 1668625.4 | ... S9: =IF(S$6<01_Annahmen!$O$31,0,(1-$C$4*01_Annahmen!$P$31)*01_Annahmen!$H$31*(1+01_Annahmen!$L$31)^(S$6-01_Annahmen!$O$31)*(1-IF(S$6=01_Annahmen!$O$31,01_Annahmen!$K$31,IF(S$6=01_Annahmen!$O$31+1,(01_Annahmen!$K$31+01_Annahmen!$I$31)/2,01_Annahmen!$I$31))-01_Annahmen!$J$31)) -> 1766793.1
B10: Nettoertrag (NOI) | C10: Phase D | D10: =SUM(E10:S10) -> 20516832 | E10: =IF(E$6<01_Annahmen!$O$32,0,(1-$C$4*01_Annahmen!$P$32)*01_Annahmen!$H$32*(1+01_Annahmen!$L$32)^(E$6-01_Annahmen!$O$32)*(1-IF(E$6=01_Annahmen!$O$32,01_Annahmen!$K$32,IF(E$6=01_Annahmen!$O$32+1,(01_Annahmen!$K$32+01_Annahmen!$I$32)/2,01_Annahmen!$I$32))-01_Annahmen!$J$32)) -> 0 | F10: =IF(F$6<01_Annahmen!$O$32,0,(1-$C$4*01_Annahmen!$P$32)*01_Annahmen!$H$32*(1+01_Annahmen!$L$32)^(F$6-01_Annahmen!$O$32)*(1-IF(F$6=01_Annahmen!$O$32,01_Annahmen!$K$32,IF(F$6=01_Annahmen!$O$32+1,(01_Annahmen!$K$32+01_Annahmen!$I$32)/2,01_Annahmen!$I$32))-01_Annahmen!$J$32)) -> 0 | G10: =IF(G$6<01_Annahmen!$O$32,0,(1-$C$4*01_Annahmen!$P$32)*01_Annahmen!$H$32*(1+01_Annahmen!$L$32)^(G$6-01_Annahmen!$O$32)*(1-IF(G$6=01_Annahmen!$O$32,01_Annahmen!$K$32,IF(G$6=01_Annahmen!$O$32+1,(01_Annahmen!$K$32+01_Annahmen!$I$32)/2,01_Annahmen!$I$32))-01_Annahmen!$J$32)) -> 0 | H10: =IF(H$6<01_Annahmen!$O$32,0,(1-$C$4*01_Annahmen!$P$32)*01_Annahmen!$H$32*(1+01_Annahmen!$L$32)^(H$6-01_Annahmen!$O$32)*(1-IF(H$6=01_Annahmen!$O$32,01_Annahmen!$K$32,IF(H$6=01_Annahmen!$O$32+1,(01_Annahmen!$K$32+01_Annahmen!$I$32)/2,01_Annahmen!$I$32))-01_Annahmen!$J$32)) -> 0 | I10: =IF(I$6<01_Annahmen!$O$32,0,(1-$C$4*01_Annahmen!$P$32)*01_Annahmen!$H$32*(1+01_Annahmen!$L$32)^(I$6-01_Annahmen!$O$32)*(1-IF(I$6=01_Annahmen!$O$32,01_Annahmen!$K$32,IF(I$6=01_Annahmen!$O$32+1,(01_Annahmen!$K$32+01_Annahmen!$I$32)/2,01_Annahmen!$I$32))-01_Annahmen!$J$32)) -> 1012151.2 | J10: =IF(J$6<01_Annahmen!$O$32,0,(1-$C$4*01_Annahmen!$P$32)*01_Annahmen!$H$32*(1+01_Annahmen!$L$32)^(J$6-01_Annahmen!$O$32)*(1-IF(J$6=01_Annahmen!$O$32,01_Annahmen!$K$32,IF(J$6=01_Annahmen!$O$32+1,(01_Annahmen!$K$32+01_Annahmen!$I$32)/2,01_Annahmen!$I$32))-01_Annahmen!$J$32)) -> 1474218.3 | K10: =IF(K$6<01_Annahmen!$O$32,0,(1-$C$4*01_Annahmen!$P$32)*01_Annahmen!$H$32*(1+01_Annahmen!$L$32)^(K$6-01_Annahmen!$O$32)*(1-IF(K$6=01_Annahmen!$O$32,01_Annahmen!$K$32,IF(K$6=01_Annahmen!$O$32+1,(01_Annahmen!$K$32+01_Annahmen!$I$32)/2,01_Annahmen!$I$32))-01_Annahmen!$J$32)) -> 1943250.3 | L10: =IF(L$6<01_Annahmen!$O$32,0,(1-$C$4*01_Annahmen!$P$32)*01_Annahmen!$H$32*(1+01_Annahmen!$L$32)^(L$6-01_Annahmen!$O$32)*(1-IF(L$6=01_Annahmen!$O$32,01_Annahmen!$K$32,IF(L$6=01_Annahmen!$O$32+1,(01_Annahmen!$K$32+01_Annahmen!$I$32)/2,01_Annahmen!$I$32))-01_Annahmen!$J$32)) -> 1958019 | ... S10: =IF(S$6<01_Annahmen!$O$32,0,(1-$C$4*01_Annahmen!$P$32)*01_Annahmen!$H$32*(1+01_Annahmen!$L$32)^(S$6-01_Annahmen!$O$32)*(1-IF(S$6=01_Annahmen!$O$32,01_Annahmen!$K$32,IF(S$6=01_Annahmen!$O$32+1,(01_Annahmen!$K$32+01_Annahmen!$I$32)/2,01_Annahmen!$I$32))-01_Annahmen!$J$32)) -> 2064590.9
B11: Nettoertrag (NOI) | C11: Phase C | D11: =SUM(E11:S11) -> 0 | E11: =IF(E$6<01_Annahmen!$O$33,0,(1-$C$4*01_Annahmen!$P$33)*01_Annahmen!$H$33*(1+01_Annahmen!$L$33)^(E$6-01_Annahmen!$O$33)*(1-IF(E$6=01_Annahmen!$O$33,01_Annahmen!$K$33,IF(E$6=01_Annahmen!$O$33+1,(01_Annahmen!$K$33+01_Annahmen!$I$33)/2,01_Annahmen!$I$33))-01_Annahmen!$J$33)) -> 0 | F11: =IF(F$6<01_Annahmen!$O$33,0,(1-$C$4*01_Annahmen!$P$33)*01_Annahmen!$H$33*(1+01_Annahmen!$L$33)^(F$6-01_Annahmen!$O$33)*(1-IF(F$6=01_Annahmen!$O$33,01_Annahmen!$K$33,IF(F$6=01_Annahmen!$O$33+1,(01_Annahmen!$K$33+01_Annahmen!$I$33)/2,01_Annahmen!$I$33))-01_Annahmen!$J$33)) -> 0 | G11: =IF(G$6<01_Annahmen!$O$33,0,(1-$C$4*01_Annahmen!$P$33)*01_Annahmen!$H$33*(1+01_Annahmen!$L$33)^(G$6-01_Annahmen!$O$33)*(1-IF(G$6=01_Annahmen!$O$33,01_Annahmen!$K$33,IF(G$6=01_Annahmen!$O$33+1,(01_Annahmen!$K$33+01_Annahmen!$I$33)/2,01_Annahmen!$I$33))-01_Annahmen!$J$33)) -> 0 | H11: =IF(H$6<01_Annahmen!$O$33,0,(1-$C$4*01_Annahmen!$P$33)*01_Annahmen!$H$33*(1+01_Annahmen!$L$33)^(H$6-01_Annahmen!$O$33)*(1-IF(H$6=01_Annahmen!$O$33,01_Annahmen!$K$33,IF(H$6=01_Annahmen!$O$33+1,(01_Annahmen!$K$33+01_Annahmen!$I$33)/2,01_Annahmen!$I$33))-01_Annahmen!$J$33)) -> 0 | I11: =IF(I$6<01_Annahmen!$O$33,0,(1-$C$4*01_Annahmen!$P$33)*01_Annahmen!$H$33*(1+01_Annahmen!$L$33)^(I$6-01_Annahmen!$O$33)*(1-IF(I$6=01_Annahmen!$O$33,01_Annahmen!$K$33,IF(I$6=01_Annahmen!$O$33+1,(01_Annahmen!$K$33+01_Annahmen!$I$33)/2,01_Annahmen!$I$33))-01_Annahmen!$J$33)) -> 0 | J11: =IF(J$6<01_Annahmen!$O$33,0,(1-$C$4*01_Annahmen!$P$33)*01_Annahmen!$H$33*(1+01_Annahmen!$L$33)^(J$6-01_Annahmen!$O$33)*(1-IF(J$6=01_Annahmen!$O$33,01_Annahmen!$K$33,IF(J$6=01_Annahmen!$O$33+1,(01_Annahmen!$K$33+01_Annahmen!$I$33)/2,01_Annahmen!$I$33))-01_Annahmen!$J$33)) -> 0 | K11: =IF(K$6<01_Annahmen!$O$33,0,(1-$C$4*01_Annahmen!$P$33)*01_Annahmen!$H$33*(1+01_Annahmen!$L$33)^(K$6-01_Annahmen!$O$33)*(1-IF(K$6=01_Annahmen!$O$33,01_Annahmen!$K$33,IF(K$6=01_Annahmen!$O$33+1,(01_Annahmen!$K$33+01_Annahmen!$I$33)/2,01_Annahmen!$I$33))-01_Annahmen!$J$33)) -> 0 | L11: =IF(L$6<01_Annahmen!$O$33,0,(1-$C$4*01_Annahmen!$P$33)*01_Annahmen!$H$33*(1+01_Annahmen!$L$33)^(L$6-01_Annahmen!$O$33)*(1-IF(L$6=01_Annahmen!$O$33,01_Annahmen!$K$33,IF(L$6=01_Annahmen!$O$33+1,(01_Annahmen!$K$33+01_Annahmen!$I$33)/2,01_Annahmen!$I$33))-01_Annahmen!$J$33)) -> 0 | ... S11: =IF(S$6<01_Annahmen!$O$33,0,(1-$C$4*01_Annahmen!$P$33)*01_Annahmen!$H$33*(1+01_Annahmen!$L$33)^(S$6-01_Annahmen!$O$33)*(1-IF(S$6=01_Annahmen!$O$33,01_Annahmen!$K$33,IF(S$6=01_Annahmen!$O$33+1,(01_Annahmen!$K$33+01_Annahmen!$I$33)/2,01_Annahmen!$I$33))-01_Annahmen!$J$33)) -> 0
B12: Nettoertrag total | D12: =SUM(D8:D11) -> 37962047 | E12: =SUM(E8:E11) -> 0 | F12: =SUM(F8:F11) -> 0 | G12: =SUM(G8:G11) -> 0 | H12: =SUM(H8:H11) -> 0 | I12: =SUM(I8:I11) -> 1830512.6 | J12: =SUM(J8:J11) -> 2707550.7 | K12: =SUM(K8:K11) -> 3598304.3 | ... S12: =SUM(S8:S11) -> 3831384.1
B13: Verkaufserlös netto | C13: Phase A | D13: =SUM(E13:S13) -> 29250000 | E13: =IF(E$6=01_Annahmen!$S$30,$C$4*01_Annahmen!$P$30*01_Annahmen!$Q$30*(1-01_Annahmen!$R$30),0) -> 0 | F13: =IF(F$6=01_Annahmen!$S$30,$C$4*01_Annahmen!$P$30*01_Annahmen!$Q$30*(1-01_Annahmen!$R$30),0) -> 0 | G13: =IF(G$6=01_Annahmen!$S$30,$C$4*01_Annahmen!$P$30*01_Annahmen!$Q$30*(1-01_Annahmen!$R$30),0) -> 0 | H13: =IF(H$6=01_Annahmen!$S$30,$C$4*01_Annahmen!$P$30*01_Annahmen!$Q$30*(1-01_Annahmen!$R$30),0) -> 29250000 | I13: =IF(I$6=01_Annahmen!$S$30,$C$4*01_Annahmen!$P$30*01_Annahmen!$Q$30*(1-01_Annahmen!$R$30),0) -> 0 | J13: =IF(J$6=01_Annahmen!$S$30,$C$4*01_Annahmen!$P$30*01_Annahmen!$Q$30*(1-01_Annahmen!$R$30),0) -> 0 | K13: =IF(K$6=01_Annahmen!$S$30,$C$4*01_Annahmen!$P$30*01_Annahmen!$Q$30*(1-01_Annahmen!$R$30),0) -> 0 | L13: =IF(L$6=01_Annahmen!$S$30,$C$4*01_Annahmen!$P$30*01_Annahmen!$Q$30*(1-01_Annahmen!$R$30),0) -> 0 | ... S13: =IF(S$6=01_Annahmen!$S$30,$C$4*01_Annahmen!$P$30*01_Annahmen!$Q$30*(1-01_Annahmen!$R$30),0) -> 0
B14: Verkaufserlös netto | C14: Phase B | D14: =SUM(E14:S14) -> 0 | E14: =IF(E$6=01_Annahmen!$S$31,$C$4*01_Annahmen!$P$31*01_Annahmen!$Q$31*(1-01_Annahmen!$R$31),0) -> 0 | F14: =IF(F$6=01_Annahmen!$S$31,$C$4*01_Annahmen!$P$31*01_Annahmen!$Q$31*(1-01_Annahmen!$R$31),0) -> 0 | G14: =IF(G$6=01_Annahmen!$S$31,$C$4*01_Annahmen!$P$31*01_Annahmen!$Q$31*(1-01_Annahmen!$R$31),0) -> 0 | H14: =IF(H$6=01_Annahmen!$S$31,$C$4*01_Annahmen!$P$31*01_Annahmen!$Q$31*(1-01_Annahmen!$R$31),0) -> 0 | I14: =IF(I$6=01_Annahmen!$S$31,$C$4*01_Annahmen!$P$31*01_Annahmen!$Q$31*(1-01_Annahmen!$R$31),0) -> 0 | J14: =IF(J$6=01_Annahmen!$S$31,$C$4*01_Annahmen!$P$31*01_Annahmen!$Q$31*(1-01_Annahmen!$R$31),0) -> 0 | K14: =IF(K$6=01_Annahmen!$S$31,$C$4*01_Annahmen!$P$31*01_Annahmen!$Q$31*(1-01_Annahmen!$R$31),0) -> 0 | L14: =IF(L$6=01_Annahmen!$S$31,$C$4*01_Annahmen!$P$31*01_Annahmen!$Q$31*(1-01_Annahmen!$R$31),0) -> 0 | ... S14: =IF(S$6=01_Annahmen!$S$31,$C$4*01_Annahmen!$P$31*01_Annahmen!$Q$31*(1-01_Annahmen!$R$31),0) -> 0
